BEGIN:VCALENDAR
VERSION:2.0
PRODID:-//Visit the California Delta - ECPv6.15.18//NONSGML v1.0//EN
CALSCALE:GREGORIAN
METHOD:PUBLISH
X-ORIGINAL-URL:https://visitcadelta.com
X-WR-CALDESC:Events for Visit the California Delta
REFRESH-INTERVAL;VALUE=DURATION:PT1H
X-Robots-Tag:noindex
X-PUBLISHED-TTL:PT1H
BEGIN:VTIMEZONE
TZID:America/Los_Angeles
BEGIN:DAYLIGHT
TZOFFSETFROM:-0800
TZOFFSETTO:-0700
TZNAME:PDT
DTSTART:20180311T100000
END:DAYLIGHT
BEGIN:STANDARD
TZOFFSETFROM:-0700
TZOFFSETTO:-0800
TZNAME:PST
DTSTART:20181104T090000
END:STANDARD
BEGIN:DAYLIGHT
TZOFFSETFROM:-0800
TZOFFSETTO:-0700
TZNAME:PDT
DTSTART:20190310T100000
END:DAYLIGHT
BEGIN:STANDARD
TZOFFSETFROM:-0700
TZOFFSETTO:-0800
TZNAME:PST
DTSTART:20191103T090000
END:STANDARD
BEGIN:DAYLIGHT
TZOFFSETFROM:-0800
TZOFFSETTO:-0700
TZNAME:PDT
DTSTART:20200308T100000
END:DAYLIGHT
BEGIN:STANDARD
TZOFFSETFROM:-0700
TZOFFSETTO:-0800
TZNAME:PST
DTSTART:20201101T090000
END:STANDARD
END:VTIMEZONE
BEGIN:VEVENT
DTSTART;TZID=America/Los_Angeles:20190629T100000
DTEND;TZID=America/Los_Angeles:20190629T150000
DTSTAMP:20260419T174843
CREATED:20190618T221419Z
LAST-MODIFIED:20190619T225750Z
UID:7399-1561802400-1561820400@visitcadelta.com
SUMMARY:2nd Annual Cruisen on the River Car Show
DESCRIPTION:Rows and rows of ravishing looking cars. Get in on the spectating and listen to live music by Tony Rodriquez and the Spareparts Band all for FREE. Don’t miss out on raffles as well. Want to show off your car? Bring your car on the day of the event and register. Registration fee $25 per car on the day of the event. \nVisit the event page for full details.
URL:https://visitcadelta.com/event/2nd-annual-cruisen-river-car-show/
LOCATION:Hood Ranch Kitchen\, 10761 State Highway 160\, Hood\, CA\, 95639
CATEGORIES:Music Art Culture
ATTACH;FMTTYPE=image/jpeg:https://visitcadelta.com/wp-content/uploads/2019/06/rivercarshow2.jpg
END:VEVENT
END:VCALENDAR