BEGIN:VCALENDAR
VERSION:2.0
PRODID:-//Visit the California Delta - ECPv6.15.18//NONSGML v1.0//EN
CALSCALE:GREGORIAN
METHOD:PUBLISH
X-ORIGINAL-URL:https://visitcadelta.com
X-WR-CALDESC:Events for Visit the California Delta
REFRESH-INTERVAL;VALUE=DURATION:PT1H
X-Robots-Tag:noindex
X-PUBLISHED-TTL:PT1H
BEGIN:VTIMEZONE
TZID:America/Los_Angeles
BEGIN:DAYLIGHT
TZOFFSETFROM:-0800
TZOFFSETTO:-0700
TZNAME:PDT
DTSTART:20190310T100000
END:DAYLIGHT
BEGIN:STANDARD
TZOFFSETFROM:-0700
TZOFFSETTO:-0800
TZNAME:PST
DTSTART:20191103T090000
END:STANDARD
BEGIN:DAYLIGHT
TZOFFSETFROM:-0800
TZOFFSETTO:-0700
TZNAME:PDT
DTSTART:20200308T100000
END:DAYLIGHT
BEGIN:STANDARD
TZOFFSETFROM:-0700
TZOFFSETTO:-0800
TZNAME:PST
DTSTART:20201101T090000
END:STANDARD
BEGIN:DAYLIGHT
TZOFFSETFROM:-0800
TZOFFSETTO:-0700
TZNAME:PDT
DTSTART:20210314T100000
END:DAYLIGHT
BEGIN:STANDARD
TZOFFSETFROM:-0700
TZOFFSETTO:-0800
TZNAME:PST
DTSTART:20211107T090000
END:STANDARD
END:VTIMEZONE
BEGIN:VEVENT
DTSTART;TZID=America/Los_Angeles:20200411T090000
DTEND;TZID=America/Los_Angeles:20200411T120000
DTSTAMP:20260419T175918
CREATED:20200210T175256Z
LAST-MODIFIED:20200318T223735Z
UID:8381-1586595600-1586606400@visitcadelta.com
SUMMARY:Bunny Hop 5K - CANCELED
DESCRIPTION:UPDATE: DUE TO CURRENT EVENTS OF COVID-19\, THIS EVENT HAS BEEN CANCELED. \nWalk\, run\, or bunny hop your way to the finish line. Starting from the Antioch Marina to the Dow Wetlands\, you can enjoy gorgeous views of wildlife. Proceeds from this fundraiser will benefit programs in the Antioch Unified School District. Sign up before April 6 to receive a complimentary t-shirt. Kids ages 6 and under run for free. \nParticipant entry $30\nKids 6 years old and under FREE \nFor details\, visit the Antioch Rotary Club event page.
URL:https://visitcadelta.com/event/bunny-hop-5k/
LOCATION:Lone Tree Golf Course & Event Center\, 4800 Golf Course Road\, Antioch\, CA
CATEGORIES:Family Friendly
ATTACH;FMTTYPE=image/jpeg:https://visitcadelta.com/wp-content/uploads/2020/02/12440415_891226200999869_1843254589559446668_ovc.jpg
END:VEVENT
END:VCALENDAR