BEGIN:VCALENDAR
VERSION:2.0
PRODID:-//Visit the California Delta - ECPv6.15.18//NONSGML v1.0//EN
CALSCALE:GREGORIAN
METHOD:PUBLISH
X-ORIGINAL-URL:https://visitcadelta.com
X-WR-CALDESC:Events for Visit the California Delta
REFRESH-INTERVAL;VALUE=DURATION:PT1H
X-Robots-Tag:noindex
X-PUBLISHED-TTL:PT1H
BEGIN:VTIMEZONE
TZID:America/Los_Angeles
BEGIN:DAYLIGHT
TZOFFSETFROM:-0800
TZOFFSETTO:-0700
TZNAME:PDT
DTSTART:20250309T100000
END:DAYLIGHT
BEGIN:STANDARD
TZOFFSETFROM:-0700
TZOFFSETTO:-0800
TZNAME:PST
DTSTART:20251102T090000
END:STANDARD
BEGIN:DAYLIGHT
TZOFFSETFROM:-0800
TZOFFSETTO:-0700
TZNAME:PDT
DTSTART:20260308T100000
END:DAYLIGHT
BEGIN:STANDARD
TZOFFSETFROM:-0700
TZOFFSETTO:-0800
TZNAME:PST
DTSTART:20261101T090000
END:STANDARD
BEGIN:DAYLIGHT
TZOFFSETFROM:-0800
TZOFFSETTO:-0700
TZNAME:PDT
DTSTART:20270314T100000
END:DAYLIGHT
BEGIN:STANDARD
TZOFFSETFROM:-0700
TZOFFSETTO:-0800
TZNAME:PST
DTSTART:20271107T090000
END:STANDARD
END:VTIMEZONE
BEGIN:VEVENT
DTSTART;TZID=America/Los_Angeles:20260411T090000
DTEND;TZID=America/Los_Angeles:20260411T160000
DTSTAMP:20260419T141425
CREATED:20260316T191330Z
LAST-MODIFIED:20260316T191330Z
UID:11476-1775898000-1775923200@visitcadelta.com
SUMMARY:East Bay Anza 250 Symposium in Pittsburg
DESCRIPTION:The East Bay Anza 250 Symposium will explore the impact of the 1775–76 Juan Bautista de Anza expedition and its lasting influence on the East Bay. The event will bring together historians\, educators\, land managers\, and community leaders to discuss the expedition’s history\, Indigenous legacies\, and how this past continues to shape the region today. \nThe symposium is part of the commemoration of the 250th anniversary of the Anza expedition.
URL:https://visitcadelta.com/event/east-bay-anza-250-symposium-in-pittsburg/
LOCATION:Los Medanos College — Student Union Building\, 2700 East Leland Road\, Pittsburg\, CA\, 94565\, United States
END:VEVENT
END:VCALENDAR