BEGIN:VCALENDAR
VERSION:2.0
PRODID:-//Visit the California Delta - ECPv6.15.18//NONSGML v1.0//EN
CALSCALE:GREGORIAN
METHOD:PUBLISH
X-WR-CALNAME:Visit the California Delta
X-ORIGINAL-URL:https://visitcadelta.com
X-WR-CALDESC:Events for Visit the California Delta
REFRESH-INTERVAL;VALUE=DURATION:PT1H
X-Robots-Tag:noindex
X-PUBLISHED-TTL:PT1H
BEGIN:VTIMEZONE
TZID:America/Los_Angeles
BEGIN:DAYLIGHT
TZOFFSETFROM:-0800
TZOFFSETTO:-0700
TZNAME:PDT
DTSTART:20180311T100000
END:DAYLIGHT
BEGIN:STANDARD
TZOFFSETFROM:-0700
TZOFFSETTO:-0800
TZNAME:PST
DTSTART:20181104T090000
END:STANDARD
BEGIN:DAYLIGHT
TZOFFSETFROM:-0800
TZOFFSETTO:-0700
TZNAME:PDT
DTSTART:20190310T100000
END:DAYLIGHT
BEGIN:STANDARD
TZOFFSETFROM:-0700
TZOFFSETTO:-0800
TZNAME:PST
DTSTART:20191103T090000
END:STANDARD
BEGIN:DAYLIGHT
TZOFFSETFROM:-0800
TZOFFSETTO:-0700
TZNAME:PDT
DTSTART:20200308T100000
END:DAYLIGHT
BEGIN:STANDARD
TZOFFSETFROM:-0700
TZOFFSETTO:-0800
TZNAME:PST
DTSTART:20201101T090000
END:STANDARD
BEGIN:DAYLIGHT
TZOFFSETFROM:-0800
TZOFFSETTO:-0700
TZNAME:PDT
DTSTART:20210314T100000
END:DAYLIGHT
BEGIN:STANDARD
TZOFFSETFROM:-0700
TZOFFSETTO:-0800
TZNAME:PST
DTSTART:20211107T090000
END:STANDARD
BEGIN:DAYLIGHT
TZOFFSETFROM:-0800
TZOFFSETTO:-0700
TZNAME:PDT
DTSTART:20220313T100000
END:DAYLIGHT
BEGIN:STANDARD
TZOFFSETFROM:-0700
TZOFFSETTO:-0800
TZNAME:PST
DTSTART:20221106T090000
END:STANDARD
END:VTIMEZONE
BEGIN:VEVENT
DTSTART;TZID=America/Los_Angeles:20210828T100000
DTEND;TZID=America/Los_Angeles:20210828T220000
DTSTAMP:20260419T174738
CREATED:20210426T231903Z
LAST-MODIFIED:20210427T192440Z
UID:9590-1630144800-1630188000@visitcadelta.com
SUMMARY:Hog August Bites
DESCRIPTION:Let the cook-off begin! Don’t miss this family event with lots of food and craft activities. Grab a cold beer at the beer garden and view the car show featuring custom and vintage automobiles. Plenty of good music to dance off to in the evening and enjoy the rest of the night indulging on rib and chili tastings! Got the secret sauce? Sign up your best rib or chili recipe!
URL:https://visitcadelta.com/event/hog-august-bites-2021/
LOCATION:Main Street\, Main Street\, Rio Vista\, CA\, 94571
CATEGORIES:Family Friendly,Food and Drink,Music Art Culture
ATTACH;FMTTYPE=image/jpeg:https://visitcadelta.com/wp-content/uploads/2021/04/hog-august-bites.jpg
GEO:38.1580735;-121.693593
X-APPLE-STRUCTURED-LOCATION;VALUE=URI;X-ADDRESS=Main Street Main Street Rio Vista CA 94571;X-APPLE-RADIUS=500;X-TITLE=Main Street:geo:-121.693593,38.1580735
END:VEVENT
BEGIN:VEVENT
DTSTART;TZID=America/Los_Angeles:20190824T100000
DTEND;TZID=America/Los_Angeles:20190824T230000
DTSTAMP:20260419T174738
CREATED:20190426T153854Z
LAST-MODIFIED:20190813T165954Z
UID:7065-1566640800-1566687600@visitcadelta.com
SUMMARY:Hog August Bites
DESCRIPTION:Let the cook-off begin! Don’t miss this family event with lots of food and craft activities. Grab a cold beer at the beer garden and view the car show featuring custom and vintage automobiles. Plenty of good music to dance off to in the evening and enjoy the rest of the night indulging on rib and chili tastings! Got the secret sauce? Sign up your best rib or chili recipe! Visit the Discover Rio Vista for details.
URL:https://visitcadelta.com/event/hog-august-bites-2019/
LOCATION:Main Street\, Main Street\, Rio Vista\, CA\, 94571
CATEGORIES:Family Friendly,Food and Drink,Music Art Culture
ATTACH;FMTTYPE=image/jpeg:https://visitcadelta.com/wp-content/uploads/2017/08/hog-august-bites.jpg
GEO:38.1580735;-121.693593
X-APPLE-STRUCTURED-LOCATION;VALUE=URI;X-ADDRESS=Main Street Main Street Rio Vista CA 94571;X-APPLE-RADIUS=500;X-TITLE=Main Street:geo:-121.693593,38.1580735
END:VEVENT
END:VCALENDAR