BEGIN:VCALENDAR
VERSION:2.0
PRODID:-//Visit the California Delta - ECPv6.15.18//NONSGML v1.0//EN
CALSCALE:GREGORIAN
METHOD:PUBLISH
X-ORIGINAL-URL:https://visitcadelta.com
X-WR-CALDESC:Events for Visit the California Delta
REFRESH-INTERVAL;VALUE=DURATION:PT1H
X-Robots-Tag:noindex
X-PUBLISHED-TTL:PT1H
BEGIN:VTIMEZONE
TZID:America/Los_Angeles
BEGIN:DAYLIGHT
TZOFFSETFROM:-0800
TZOFFSETTO:-0700
TZNAME:PDT
DTSTART:20190310T100000
END:DAYLIGHT
BEGIN:STANDARD
TZOFFSETFROM:-0700
TZOFFSETTO:-0800
TZNAME:PST
DTSTART:20191103T090000
END:STANDARD
BEGIN:DAYLIGHT
TZOFFSETFROM:-0800
TZOFFSETTO:-0700
TZNAME:PDT
DTSTART:20200308T100000
END:DAYLIGHT
BEGIN:STANDARD
TZOFFSETFROM:-0700
TZOFFSETTO:-0800
TZNAME:PST
DTSTART:20201101T090000
END:STANDARD
BEGIN:DAYLIGHT
TZOFFSETFROM:-0800
TZOFFSETTO:-0700
TZNAME:PDT
DTSTART:20210314T100000
END:DAYLIGHT
BEGIN:STANDARD
TZOFFSETFROM:-0700
TZOFFSETTO:-0800
TZNAME:PST
DTSTART:20211107T090000
END:STANDARD
END:VTIMEZONE
BEGIN:VEVENT
DTSTART;TZID=America/Los_Angeles:20200403T100000
DTEND;TZID=America/Los_Angeles:20200403T170000
DTSTAMP:20260419T182907
CREATED:20200213T182331Z
LAST-MODIFIED:20200317T212600Z
UID:8385-1585908000-1585933200@visitcadelta.com
SUMMARY:2020 Sheepdog Trial - CANCELED
DESCRIPTION:UPDATE: DUE TO CURRENT EVENTS OF COVID-19\, THIS EVENT HAS BEEN CANCELED \nEnjoy the view of the countryside as talented sheepdogs and their owners compete in the National Trial. Feel free to bring a picnic blanket\, low-seating chairs\, and your lunch to watch the competition. On Saturday and Sunday\, food and drinks will be available for purchase. A special demonstration on sheep shearing and wool spinning will also be held on Saturday and Sunday. There will be 3 days of trials\, tickets can be used on any single day. \nGeneral admission (13 years old and older): $20\nChildren under 13: FREE \nThis is an alcohol free event. \nFor additional details\, visit Discover Rio Vista and tickets can be purchased at Eventbrite.
URL:https://visitcadelta.com/event/2020-sheepdog-trial/2020-04-03/
LOCATION:McCormack Ranch\, 7680 Montezuma Hills Rd\, Rio Vista\, CA\, 94571
CATEGORIES:Family Friendly,Nature and Recreation
ATTACH;FMTTYPE=image/jpeg:https://visitcadelta.com/wp-content/uploads/2020/02/a1-sdt-get-in-there-jan-vick-e1482211029191vcad.jpg
END:VEVENT
END:VCALENDAR