BEGIN:VCALENDAR
VERSION:2.0
PRODID:-//Visit the California Delta - ECPv6.15.18//NONSGML v1.0//EN
CALSCALE:GREGORIAN
METHOD:PUBLISH
X-WR-CALNAME:Visit the California Delta
X-ORIGINAL-URL:https://visitcadelta.com
X-WR-CALDESC:Events for Visit the California Delta
REFRESH-INTERVAL;VALUE=DURATION:PT1H
X-Robots-Tag:noindex
X-PUBLISHED-TTL:PT1H
BEGIN:VTIMEZONE
TZID:America/Los_Angeles
BEGIN:DAYLIGHT
TZOFFSETFROM:-0800
TZOFFSETTO:-0700
TZNAME:PDT
DTSTART:20180311T100000
END:DAYLIGHT
BEGIN:STANDARD
TZOFFSETFROM:-0700
TZOFFSETTO:-0800
TZNAME:PST
DTSTART:20181104T090000
END:STANDARD
BEGIN:DAYLIGHT
TZOFFSETFROM:-0800
TZOFFSETTO:-0700
TZNAME:PDT
DTSTART:20190310T100000
END:DAYLIGHT
BEGIN:STANDARD
TZOFFSETFROM:-0700
TZOFFSETTO:-0800
TZNAME:PST
DTSTART:20191103T090000
END:STANDARD
BEGIN:DAYLIGHT
TZOFFSETFROM:-0800
TZOFFSETTO:-0700
TZNAME:PDT
DTSTART:20200308T100000
END:DAYLIGHT
BEGIN:STANDARD
TZOFFSETFROM:-0700
TZOFFSETTO:-0800
TZNAME:PST
DTSTART:20201101T090000
END:STANDARD
END:VTIMEZONE
BEGIN:VEVENT
DTSTART;TZID=America/Los_Angeles:20191231T200000
DTEND;TZID=America/Los_Angeles:20191231T235900
DTSTAMP:20260419T161103
CREATED:20191223T191450Z
LAST-MODIFIED:20191227T185345Z
UID:8156-1577822400-1577836740@visitcadelta.com
SUMMARY:Moore's Riverboat NYE Celebration
DESCRIPTION:Start your New Years’ Eve with a delicious dinner at Moore’s Riverboat Restaurant. Turn your eyes to the stage as The Penetrators Groove Band plays their groovin’ tunes through the night and into the new years! Reservations are required\, please contact Rich Hogan or call (916) 292 – 8490. \nDinner $30 per person\, includes ribeye –  choice of scampi or grilled chicken\, garlic mash potatoes\, salad\, and rolls. \nEvent start/end: 8PM – 1AM \nFor details\, visit the event page.
URL:https://visitcadelta.com/event/moores-riverboat-nye-celebration/
LOCATION:Moore’s Riverboat Restaurant\, 106 W Brannan Island Rd\, Isleton\, CA\, 95641
CATEGORIES:Food and Drink
ATTACH;FMTTYPE=image/png:https://visitcadelta.com/wp-content/uploads/2019/12/vcadmoore.png
END:VEVENT
END:VCALENDAR