BEGIN:VCALENDAR
VERSION:2.0
PRODID:-//Visit the California Delta - ECPv6.15.18//NONSGML v1.0//EN
CALSCALE:GREGORIAN
METHOD:PUBLISH
X-ORIGINAL-URL:https://visitcadelta.com
X-WR-CALDESC:Events for Visit the California Delta
REFRESH-INTERVAL;VALUE=DURATION:PT1H
X-Robots-Tag:noindex
X-PUBLISHED-TTL:PT1H
BEGIN:VTIMEZONE
TZID:America/Los_Angeles
BEGIN:DAYLIGHT
TZOFFSETFROM:-0800
TZOFFSETTO:-0700
TZNAME:PDT
DTSTART:20250309T100000
END:DAYLIGHT
BEGIN:STANDARD
TZOFFSETFROM:-0700
TZOFFSETTO:-0800
TZNAME:PST
DTSTART:20251102T090000
END:STANDARD
BEGIN:DAYLIGHT
TZOFFSETFROM:-0800
TZOFFSETTO:-0700
TZNAME:PDT
DTSTART:20260308T100000
END:DAYLIGHT
BEGIN:STANDARD
TZOFFSETFROM:-0700
TZOFFSETTO:-0800
TZNAME:PST
DTSTART:20261101T090000
END:STANDARD
BEGIN:DAYLIGHT
TZOFFSETFROM:-0800
TZOFFSETTO:-0700
TZNAME:PDT
DTSTART:20270314T100000
END:DAYLIGHT
BEGIN:STANDARD
TZOFFSETFROM:-0700
TZOFFSETTO:-0800
TZNAME:PST
DTSTART:20271107T090000
END:STANDARD
END:VTIMEZONE
BEGIN:VEVENT
DTSTART;TZID=America/Los_Angeles:20260404T120000
DTEND;TZID=America/Los_Angeles:20260404T130000
DTSTAMP:20260419T155627
CREATED:20260327T213842Z
LAST-MODIFIED:20260327T213842Z
UID:11553-1775304000-1775307600@visitcadelta.com
SUMMARY:Learn How to Make Sauerkraut in Benicia
DESCRIPTION:Join Benicia Fermentory for a hands-on fermentation workshop\, a beginner-friendly class about the art and science of traditional fermentation. You’ll leave with your own jar of probiotic-rich sauerkraut to take home. \nWe’ll cover:\n• The fundamentals of fermentation\n• How to safely ferment vegetables at home\n• The health benefits of fermented foods\n• Flavor variations and tips for success \nMore information here.
URL:https://visitcadelta.com/event/learn-how-to-make-sauerkraut-in-benicia/
LOCATION:New Harbor Community Church\, 4858 E 2nd St\, Benicia\, CA\, 94510\, United States
END:VEVENT
END:VCALENDAR