BEGIN:VCALENDAR
VERSION:2.0
PRODID:-//Visit the California Delta - ECPv6.15.18//NONSGML v1.0//EN
CALSCALE:GREGORIAN
METHOD:PUBLISH
X-WR-CALNAME:Visit the California Delta
X-ORIGINAL-URL:https://visitcadelta.com
X-WR-CALDESC:Events for Visit the California Delta
REFRESH-INTERVAL;VALUE=DURATION:PT1H
X-Robots-Tag:noindex
X-PUBLISHED-TTL:PT1H
BEGIN:VTIMEZONE
TZID:America/Los_Angeles
BEGIN:DAYLIGHT
TZOFFSETFROM:-0800
TZOFFSETTO:-0700
TZNAME:PDT
DTSTART:20190310T100000
END:DAYLIGHT
BEGIN:STANDARD
TZOFFSETFROM:-0700
TZOFFSETTO:-0800
TZNAME:PST
DTSTART:20191103T090000
END:STANDARD
BEGIN:DAYLIGHT
TZOFFSETFROM:-0800
TZOFFSETTO:-0700
TZNAME:PDT
DTSTART:20200308T100000
END:DAYLIGHT
BEGIN:STANDARD
TZOFFSETFROM:-0700
TZOFFSETTO:-0800
TZNAME:PST
DTSTART:20201101T090000
END:STANDARD
BEGIN:DAYLIGHT
TZOFFSETFROM:-0800
TZOFFSETTO:-0700
TZNAME:PDT
DTSTART:20210314T100000
END:DAYLIGHT
BEGIN:STANDARD
TZOFFSETFROM:-0700
TZOFFSETTO:-0800
TZNAME:PST
DTSTART:20211107T090000
END:STANDARD
END:VTIMEZONE
BEGIN:VEVENT
DTSTART;TZID=America/Los_Angeles:20200314T100000
DTEND;TZID=America/Los_Angeles:20200314T130000
DTSTAMP:20260419T194210
CREATED:20200225T194236Z
LAST-MODIFIED:20200226T172815Z
UID:8473-1584180000-1584190800@visitcadelta.com
SUMMARY:Oakley Community Gardens Workday
DESCRIPTION:Fill your soul with a bit of community service. Bring a friend or two to help maintain the community areas and pathways at the gardens. Whether you’re looking for an outdoor activity or just like to help\, this garden workday is perfect to express your inner gardener! \nDetails can be found on the event page or the Oakley Community Garden website.
URL:https://visitcadelta.com/event/oakley-community-gardens-workday/
LOCATION:Oakley Community Gardens\, 3900 Creekside Way\, Oakley\, CA\, 94561
CATEGORIES:Nature and Recreation
ATTACH;FMTTYPE=image/jpeg:https://visitcadelta.com/wp-content/uploads/2020/02/81297352_2478718749061811_vcad.jpg
END:VEVENT
END:VCALENDAR