BEGIN:VCALENDAR
VERSION:2.0
PRODID:-//Visit the California Delta - ECPv6.15.18//NONSGML v1.0//EN
CALSCALE:GREGORIAN
METHOD:PUBLISH
X-WR-CALNAME:Visit the California Delta
X-ORIGINAL-URL:https://visitcadelta.com
X-WR-CALDESC:Events for Visit the California Delta
REFRESH-INTERVAL;VALUE=DURATION:PT1H
X-Robots-Tag:noindex
X-PUBLISHED-TTL:PT1H
BEGIN:VTIMEZONE
TZID:America/Los_Angeles
BEGIN:DAYLIGHT
TZOFFSETFROM:-0800
TZOFFSETTO:-0700
TZNAME:PDT
DTSTART:20180311T100000
END:DAYLIGHT
BEGIN:STANDARD
TZOFFSETFROM:-0700
TZOFFSETTO:-0800
TZNAME:PST
DTSTART:20181104T090000
END:STANDARD
BEGIN:DAYLIGHT
TZOFFSETFROM:-0800
TZOFFSETTO:-0700
TZNAME:PDT
DTSTART:20190310T100000
END:DAYLIGHT
BEGIN:STANDARD
TZOFFSETFROM:-0700
TZOFFSETTO:-0800
TZNAME:PST
DTSTART:20191103T090000
END:STANDARD
BEGIN:DAYLIGHT
TZOFFSETFROM:-0800
TZOFFSETTO:-0700
TZNAME:PDT
DTSTART:20200308T100000
END:DAYLIGHT
BEGIN:STANDARD
TZOFFSETFROM:-0700
TZOFFSETTO:-0800
TZNAME:PST
DTSTART:20201101T090000
END:STANDARD
END:VTIMEZONE
BEGIN:VEVENT
DTSTART;TZID=America/Los_Angeles:20190518T100000
DTEND;TZID=America/Los_Angeles:20190518T140000
DTSTAMP:20260419T214744
CREATED:20190426T165949Z
LAST-MODIFIED:20190913T174335Z
UID:7098-1558173600-1558188000@visitcadelta.com
SUMMARY:Sidewalk Saturday
DESCRIPTION:Explore downtown Rio Vista on Sidewalk Saturday – every 3rd Saturday through September! This Saturday\, there will be local artists and vendors\, live music\, face painting\, a crafts table\, a rummage sale\, and a food pantry. 2nd Street will be closed to traffic while you enjoy this family-friendly Delta event! See the Rio Vista Chamber of Commerce page for details.
URL:https://visitcadelta.com/event/sidewalk-saturday-2019/2019-05-18/
LOCATION:On N 2nd St between Main and Sacramento St
CATEGORIES:Family Friendly,Music Art Culture
ATTACH;FMTTYPE=image/jpeg:https://visitcadelta.com/wp-content/uploads/2018/07/dscn37811.jpg
END:VEVENT
END:VCALENDAR