BEGIN:VCALENDAR
VERSION:2.0
PRODID:-//Visit the California Delta - ECPv6.15.18//NONSGML v1.0//EN
CALSCALE:GREGORIAN
METHOD:PUBLISH
X-WR-CALNAME:Visit the California Delta
X-ORIGINAL-URL:https://visitcadelta.com
X-WR-CALDESC:Events for Visit the California Delta
REFRESH-INTERVAL;VALUE=DURATION:PT1H
X-Robots-Tag:noindex
X-PUBLISHED-TTL:PT1H
BEGIN:VTIMEZONE
TZID:America/Los_Angeles
BEGIN:DAYLIGHT
TZOFFSETFROM:-0800
TZOFFSETTO:-0700
TZNAME:PDT
DTSTART:20180311T100000
END:DAYLIGHT
BEGIN:STANDARD
TZOFFSETFROM:-0700
TZOFFSETTO:-0800
TZNAME:PST
DTSTART:20181104T090000
END:STANDARD
BEGIN:DAYLIGHT
TZOFFSETFROM:-0800
TZOFFSETTO:-0700
TZNAME:PDT
DTSTART:20190310T100000
END:DAYLIGHT
BEGIN:STANDARD
TZOFFSETFROM:-0700
TZOFFSETTO:-0800
TZNAME:PST
DTSTART:20191103T090000
END:STANDARD
BEGIN:DAYLIGHT
TZOFFSETFROM:-0800
TZOFFSETTO:-0700
TZNAME:PDT
DTSTART:20200308T100000
END:DAYLIGHT
BEGIN:STANDARD
TZOFFSETFROM:-0700
TZOFFSETTO:-0800
TZNAME:PST
DTSTART:20201101T090000
END:STANDARD
END:VTIMEZONE
BEGIN:VEVENT
DTSTART;TZID=America/Los_Angeles:20191207T170000
DTEND;TZID=America/Los_Angeles:20191207T230000
DTSTAMP:20260419T175723
CREATED:20190920T173728Z
LAST-MODIFIED:20190920T192539Z
UID:7782-1575738000-1575759600@visitcadelta.com
SUMMARY:Lighted Boat Parade Isleton
DESCRIPTION:Watch the Christmas lights glimmer on these beautifully decorated boats! The Ox Bow Marina and Marina West Yacht Club will be hosting this short but sweet parade right in Isleton. Boats will be cruising out at dusk out the harbor entrance and up the Georgiana Slough. \nView additional details at the event page.
URL:https://visitcadelta.com/event/lighted-boat-parade-isleton-2019/
LOCATION:Ox Bow Marina\, 100 Oxbow Marina Dr\, Isleton\, CA\, 5641
ATTACH;FMTTYPE=image/jpeg:https://visitcadelta.com/wp-content/uploads/2019/09/boat-christmas.jpg
END:VEVENT
END:VCALENDAR