BEGIN:VCALENDAR
VERSION:2.0
PRODID:-//Visit the California Delta - ECPv6.15.18//NONSGML v1.0//EN
CALSCALE:GREGORIAN
METHOD:PUBLISH
X-ORIGINAL-URL:https://visitcadelta.com
X-WR-CALDESC:Events for Visit the California Delta
REFRESH-INTERVAL;VALUE=DURATION:PT1H
X-Robots-Tag:noindex
X-PUBLISHED-TTL:PT1H
BEGIN:VTIMEZONE
TZID:America/Los_Angeles
BEGIN:DAYLIGHT
TZOFFSETFROM:-0800
TZOFFSETTO:-0700
TZNAME:PDT
DTSTART:20190310T100000
END:DAYLIGHT
BEGIN:STANDARD
TZOFFSETFROM:-0700
TZOFFSETTO:-0800
TZNAME:PST
DTSTART:20191103T090000
END:STANDARD
BEGIN:DAYLIGHT
TZOFFSETFROM:-0800
TZOFFSETTO:-0700
TZNAME:PDT
DTSTART:20200308T100000
END:DAYLIGHT
BEGIN:STANDARD
TZOFFSETFROM:-0700
TZOFFSETTO:-0800
TZNAME:PST
DTSTART:20201101T090000
END:STANDARD
BEGIN:DAYLIGHT
TZOFFSETFROM:-0800
TZOFFSETTO:-0700
TZNAME:PDT
DTSTART:20210314T100000
END:DAYLIGHT
BEGIN:STANDARD
TZOFFSETFROM:-0700
TZOFFSETTO:-0800
TZNAME:PST
DTSTART:20211107T090000
END:STANDARD
END:VTIMEZONE
BEGIN:VEVENT
DTSTART;TZID=America/Los_Angeles:20200125T090000
DTEND;TZID=America/Los_Angeles:20200125T140000
DTSTAMP:20260419T175006
CREATED:20200110T225254Z
LAST-MODIFIED:20200110T225408Z
UID:8267-1579942800-1579960800@visitcadelta.com
SUMMARY:Cranes & Geese at Staten Island
DESCRIPTION:Enjoy your weekend sightseeing waterfowl at their wintering site at Staten Island. Meet at the Pittsburg/Bay Point BART station at 9AM. This event is not just for adults but open to youths (9-17 years old) who are interesting in birding! Young birders need to be accompanied by an adult for this event. Be sure to bring your own binoculars\, water\, and snack for this adventurous day of birding! \nFor event details\, see the Mt. Diablo Audubon Society event page.
URL:https://visitcadelta.com/event/cranes-geese-staten-island/
LOCATION:Pittsburg Bay Point Bart Station\, 1700 W Leland Rd\, Pittsburg\, CA\, 94565
CATEGORIES:Family Friendly,Nature and Recreation
ATTACH;FMTTYPE=image/jpeg:https://visitcadelta.com/wp-content/uploads/2020/01/birdingvcad.jpg
END:VEVENT
END:VCALENDAR