BEGIN:VCALENDAR
VERSION:2.0
PRODID:-//Visit the California Delta - ECPv6.15.18//NONSGML v1.0//EN
CALSCALE:GREGORIAN
METHOD:PUBLISH
X-WR-CALNAME:Visit the California Delta
X-ORIGINAL-URL:https://visitcadelta.com
X-WR-CALDESC:Events for Visit the California Delta
REFRESH-INTERVAL;VALUE=DURATION:PT1H
X-Robots-Tag:noindex
X-PUBLISHED-TTL:PT1H
BEGIN:VTIMEZONE
TZID:America/Los_Angeles
BEGIN:DAYLIGHT
TZOFFSETFROM:-0800
TZOFFSETTO:-0700
TZNAME:PDT
DTSTART:20180311T100000
END:DAYLIGHT
BEGIN:STANDARD
TZOFFSETFROM:-0700
TZOFFSETTO:-0800
TZNAME:PST
DTSTART:20181104T090000
END:STANDARD
BEGIN:DAYLIGHT
TZOFFSETFROM:-0800
TZOFFSETTO:-0700
TZNAME:PDT
DTSTART:20190310T100000
END:DAYLIGHT
BEGIN:STANDARD
TZOFFSETFROM:-0700
TZOFFSETTO:-0800
TZNAME:PST
DTSTART:20191103T090000
END:STANDARD
BEGIN:DAYLIGHT
TZOFFSETFROM:-0800
TZOFFSETTO:-0700
TZNAME:PDT
DTSTART:20200308T100000
END:DAYLIGHT
BEGIN:STANDARD
TZOFFSETFROM:-0700
TZOFFSETTO:-0800
TZNAME:PST
DTSTART:20201101T090000
END:STANDARD
BEGIN:DAYLIGHT
TZOFFSETFROM:-0800
TZOFFSETTO:-0700
TZNAME:PDT
DTSTART:20210314T100000
END:DAYLIGHT
BEGIN:STANDARD
TZOFFSETFROM:-0700
TZOFFSETTO:-0800
TZNAME:PST
DTSTART:20211107T090000
END:STANDARD
BEGIN:DAYLIGHT
TZOFFSETFROM:-0800
TZOFFSETTO:-0700
TZNAME:PDT
DTSTART:20220313T100000
END:DAYLIGHT
BEGIN:STANDARD
TZOFFSETFROM:-0700
TZOFFSETTO:-0800
TZNAME:PST
DTSTART:20221106T090000
END:STANDARD
END:VTIMEZONE
BEGIN:VEVENT
DTSTART;TZID=America/Los_Angeles:20210725T090000
DTEND;TZID=America/Los_Angeles:20210725T180000
DTSTAMP:20260419T175412
CREATED:20210305T184155Z
LAST-MODIFIED:20210429T165430Z
UID:9506-1627203600-1627236000@visitcadelta.com
SUMMARY:Courtland Pear Fair - CANCELLED
DESCRIPTION:A Delta tradition since 1972! Live music\, a parade\, pear pie eating contests\, and so more! The Pear Fair is the largest\, continuously running agriculture fair in Northern California. Bring the whole family for a pear-fect outing. \nVisit the Pear Fair website for more details.
URL:https://visitcadelta.com/event/courtland-pear-fair-2021-2/
LOCATION:Primasing Ave.\, 180 Primasing Ave\, Courtland\, CA\, 95615
CATEGORIES:Family Friendly,Food and Drink
ATTACH;FMTTYPE=image/png:https://visitcadelta.com/wp-content/uploads/2017/04/pear-festival.png
GEO:38.3308345;-121.5670961
X-APPLE-STRUCTURED-LOCATION;VALUE=URI;X-ADDRESS=Primasing Ave. 180 Primasing Ave Courtland CA 95615;X-APPLE-RADIUS=500;X-TITLE=180 Primasing Ave:geo:-121.5670961,38.3308345
END:VEVENT
BEGIN:VEVENT
DTSTART;TZID=America/Los_Angeles:20200726T090000
DTEND;TZID=America/Los_Angeles:20200726T180000
DTSTAMP:20260419T175412
CREATED:20200124T182913Z
LAST-MODIFIED:20200430T160248Z
UID:8359-1595754000-1595786400@visitcadelta.com
SUMMARY:Courtland Pear Fair - CANCELED
DESCRIPTION:UPDATE: DUE TO CURRENT EVENTS OF COVID-19\, THIS EVENT HAS BEEN CANCELED. \nA Delta tradition since 1972! Live music\, a parade\, pear pie eating contests\, and so more! The Pear Fair is the largest\, continuously running agriculture fair in Northern California. Bring the whole family for a pear-fect outing. \nVisit the Pear Fair website for more details.
URL:https://visitcadelta.com/event/courtland-pear-fair-2020/
LOCATION:Primasing Ave.\, 180 Primasing Ave\, Courtland\, CA\, 95615
CATEGORIES:Family Friendly,Food and Drink
ATTACH;FMTTYPE=image/png:https://visitcadelta.com/wp-content/uploads/2017/04/pear-festival.png
GEO:38.3308345;-121.5670961
X-APPLE-STRUCTURED-LOCATION;VALUE=URI;X-ADDRESS=Primasing Ave. 180 Primasing Ave Courtland CA 95615;X-APPLE-RADIUS=500;X-TITLE=180 Primasing Ave:geo:-121.5670961,38.3308345
END:VEVENT
BEGIN:VEVENT
DTSTART;TZID=America/Los_Angeles:20190728T090000
DTEND;TZID=America/Los_Angeles:20190728T180000
DTSTAMP:20260419T175412
CREATED:20190211T222227Z
LAST-MODIFIED:20190212T193447Z
UID:6598-1564304400-1564336800@visitcadelta.com
SUMMARY:Courtland Pear Fair
DESCRIPTION:A Delta tradition since 1972! Live music\, a parade\, pear pie eating contests\, and so more! The Pear Fair is the largest\, continuously running agriculture fair in Northern California. Bring the whole family for a pear-fect outing. \nVisit the Pear Fair website for more details.
URL:https://visitcadelta.com/event/courtland-pear-fair-2019/
LOCATION:Primasing Ave.\, 180 Primasing Ave\, Courtland\, CA\, 95615
CATEGORIES:Family Friendly,Food and Drink
ATTACH;FMTTYPE=image/png:https://visitcadelta.com/wp-content/uploads/2017/04/pear-festival.png
GEO:38.3308345;-121.5670961
X-APPLE-STRUCTURED-LOCATION;VALUE=URI;X-ADDRESS=Primasing Ave. 180 Primasing Ave Courtland CA 95615;X-APPLE-RADIUS=500;X-TITLE=180 Primasing Ave:geo:-121.5670961,38.3308345
END:VEVENT
END:VCALENDAR