BEGIN:VCALENDAR
VERSION:2.0
PRODID:-//Visit the California Delta - ECPv6.15.18//NONSGML v1.0//EN
CALSCALE:GREGORIAN
METHOD:PUBLISH
X-ORIGINAL-URL:https://visitcadelta.com
X-WR-CALDESC:Events for Visit the California Delta
REFRESH-INTERVAL;VALUE=DURATION:PT1H
X-Robots-Tag:noindex
X-PUBLISHED-TTL:PT1H
BEGIN:VTIMEZONE
TZID:America/Los_Angeles
BEGIN:DAYLIGHT
TZOFFSETFROM:-0800
TZOFFSETTO:-0700
TZNAME:PDT
DTSTART:20180311T100000
END:DAYLIGHT
BEGIN:STANDARD
TZOFFSETFROM:-0700
TZOFFSETTO:-0800
TZNAME:PST
DTSTART:20181104T090000
END:STANDARD
BEGIN:DAYLIGHT
TZOFFSETFROM:-0800
TZOFFSETTO:-0700
TZNAME:PDT
DTSTART:20190310T100000
END:DAYLIGHT
BEGIN:STANDARD
TZOFFSETFROM:-0700
TZOFFSETTO:-0800
TZNAME:PST
DTSTART:20191103T090000
END:STANDARD
BEGIN:DAYLIGHT
TZOFFSETFROM:-0800
TZOFFSETTO:-0700
TZNAME:PDT
DTSTART:20200308T100000
END:DAYLIGHT
BEGIN:STANDARD
TZOFFSETFROM:-0700
TZOFFSETTO:-0800
TZNAME:PST
DTSTART:20201101T090000
END:STANDARD
END:VTIMEZONE
BEGIN:VEVENT
DTSTART;TZID=America/Los_Angeles:20190905T180000
DTEND;TZID=America/Los_Angeles:20190905T210000
DTSTAMP:20260419T161121
CREATED:20190820T165835Z
LAST-MODIFIED:20190820T165835Z
UID:7681-1567706400-1567717200@visitcadelta.com
SUMMARY:Rendez-vous Winery Crush Festival
DESCRIPTION:Take part in this mini festivity of grape-stomping as it is part of the traditional way of making wine. Enjoy an Italian harvest dinner over the sunset while sipping on delicious chardonnay in the vineyard. Live music by Billy Williams will set the mood for the entire evening as you sip and stomp! \n$40 General Admission\, $35 Club Member \nFor details and tickets\, visit Rendez-vous Winery.
URL:https://visitcadelta.com/event/rendez-vous-winery-crush-festival/
LOCATION:Rendez-Vous Winery\, 35265 Willow Ave\, Clarksburg\, CA\, 5612
CATEGORIES:Food and Drink
ATTACH;FMTTYPE=image/jpeg:https://visitcadelta.com/wp-content/uploads/2019/08/stomp1.jpg
END:VEVENT
BEGIN:VEVENT
DTSTART;TZID=America/Los_Angeles:20190718T183000
DTEND;TZID=America/Los_Angeles:20190718T203000
DTSTAMP:20260419T161121
CREATED:20190625T195544Z
LAST-MODIFIED:20190625T195544Z
UID:7446-1563474600-1563481800@visitcadelta.com
SUMMARY:Rendez-vous Grilling Cooking Class
DESCRIPTION:Embrace your love for food and wine with a demonstrative cooking class. Chef Jen guide guests to a foodie tour exploring gourmet grilling with a twist on classic cuisines. Expect wine pairings with every course and small bites made during the demonstration to munch on. \nView details and purchase your tickets at Rendez-vous Winery.
URL:https://visitcadelta.com/event/rendez-vous-grilling-cooking-class/
LOCATION:Rendez-Vous Winery\, 35265 Willow Ave\, Clarksburg\, CA\, 5612
CATEGORIES:Food and Drink
ATTACH;FMTTYPE=image/jpeg:https://visitcadelta.com/wp-content/uploads/2019/06/61525169_2313649982048197_7000407529788276736_ncavad.jpg
END:VEVENT
END:VCALENDAR