BEGIN:VCALENDAR
VERSION:2.0
PRODID:-//Visit the California Delta - ECPv6.15.18//NONSGML v1.0//EN
CALSCALE:GREGORIAN
METHOD:PUBLISH
X-ORIGINAL-URL:https://visitcadelta.com
X-WR-CALDESC:Events for Visit the California Delta
REFRESH-INTERVAL;VALUE=DURATION:PT1H
X-Robots-Tag:noindex
X-PUBLISHED-TTL:PT1H
BEGIN:VTIMEZONE
TZID:America/Los_Angeles
BEGIN:DAYLIGHT
TZOFFSETFROM:-0800
TZOFFSETTO:-0700
TZNAME:PDT
DTSTART:20180311T100000
END:DAYLIGHT
BEGIN:STANDARD
TZOFFSETFROM:-0700
TZOFFSETTO:-0800
TZNAME:PST
DTSTART:20181104T090000
END:STANDARD
BEGIN:DAYLIGHT
TZOFFSETFROM:-0800
TZOFFSETTO:-0700
TZNAME:PDT
DTSTART:20190310T100000
END:DAYLIGHT
BEGIN:STANDARD
TZOFFSETFROM:-0700
TZOFFSETTO:-0800
TZNAME:PST
DTSTART:20191103T090000
END:STANDARD
BEGIN:DAYLIGHT
TZOFFSETFROM:-0800
TZOFFSETTO:-0700
TZNAME:PDT
DTSTART:20200308T100000
END:DAYLIGHT
BEGIN:STANDARD
TZOFFSETFROM:-0700
TZOFFSETTO:-0800
TZNAME:PST
DTSTART:20201101T090000
END:STANDARD
BEGIN:DAYLIGHT
TZOFFSETFROM:-0800
TZOFFSETTO:-0700
TZNAME:PDT
DTSTART:20210314T100000
END:DAYLIGHT
BEGIN:STANDARD
TZOFFSETFROM:-0700
TZOFFSETTO:-0800
TZNAME:PST
DTSTART:20211107T090000
END:STANDARD
BEGIN:DAYLIGHT
TZOFFSETFROM:-0800
TZOFFSETTO:-0700
TZNAME:PDT
DTSTART:20220313T100000
END:DAYLIGHT
BEGIN:STANDARD
TZOFFSETFROM:-0700
TZOFFSETTO:-0800
TZNAME:PST
DTSTART:20221106T090000
END:STANDARD
END:VTIMEZONE
BEGIN:VEVENT
DTSTART;TZID=America/Los_Angeles:20211008T160000
DTEND;TZID=America/Los_Angeles:20211008T230000
DTSTAMP:20260419T161120
CREATED:20210325T160616Z
LAST-MODIFIED:20210325T161119Z
UID:9559-1633708800-1633734000@visitcadelta.com
SUMMARY:Rio Vista Bass Derby & Festival
DESCRIPTION:The 73nd Annual Rio Vista Bass Derby & Festival will present a full roster of activities! Friday the fun starts with entertainment\, the carnival midway\, food and fun. On Saturday\, enjoy the Leos Club Pancake Breakfast before visiting the Car Show\, the Bake Sale\, and the Rummage Sale along with evening fireworks! Sunday is for the old-fashioned Bass Derby Parade\, with the theme “Celebrating the Beauty of Rio Vista.” Then it’s on to the afternoon of music\, food and rides before the Derby Awards ceremony at 4 pm. The fishing derby is open to all\, including kids\, and features many large prizes. \nDon’t miss out on the fun! Visit Bass Derby & Festival to check out the full schedule!
URL:https://visitcadelta.com/event/bass-derby-festival-2021/2021-10-08/
LOCATION:Various Locations\, Various Locations\, Rio Vista 
CATEGORIES:Family Friendly,Nature and Recreation
ATTACH;FMTTYPE=image/jpeg:https://visitcadelta.com/wp-content/uploads/2017/07/bass-derby.jpg
ORGANIZER;CN="Rio Vista Chamber of Commerce":MAILTO:info@riovista.org
GEO:38.15624;-121.6914991
X-APPLE-STRUCTURED-LOCATION;VALUE=URI;X-ADDRESS=Various Locations Various Locations Rio Vista;X-APPLE-RADIUS=500;X-TITLE=Various Locations:geo:-121.6914991,38.15624
END:VEVENT
BEGIN:VEVENT
DTSTART;VALUE=DATE:20191011
DTEND;VALUE=DATE:20191014
DTSTAMP:20260419T161120
CREATED:20190424T165040Z
LAST-MODIFIED:20190424T165320Z
UID:6999-1570752000-1571011199@visitcadelta.com
SUMMARY:Bass Derby & Festival
DESCRIPTION:The Annual Bass Derby and Festival is one of the largest and most popular events in the Delta and this year marks its 72nd year! This family-friendly event includes: \na car show\na boat show\na pancake breakfast\na rummage sale\na farmer’s market\na parade\na bake sale\ncarnival rides\nfireworks\nlive music \n…and of course – bass fishing! \nDon’t miss out on the fun! Visit Bass Derby & Festival to check out everything that is happening
URL:https://visitcadelta.com/event/bass-derby-festival-2019/
LOCATION:Various Locations\, Various Locations\, Rio Vista 
CATEGORIES:Family Friendly,Nature and Recreation
ATTACH;FMTTYPE=image/jpeg:https://visitcadelta.com/wp-content/uploads/2017/07/bass-derby.jpg
GEO:38.15624;-121.6914991
X-APPLE-STRUCTURED-LOCATION;VALUE=URI;X-ADDRESS=Various Locations Various Locations Rio Vista;X-APPLE-RADIUS=500;X-TITLE=Various Locations:geo:-121.6914991,38.15624
END:VEVENT
END:VCALENDAR