BEGIN:VCALENDAR
VERSION:2.0
PRODID:-//Visit the California Delta - ECPv6.15.18//NONSGML v1.0//EN
CALSCALE:GREGORIAN
METHOD:PUBLISH
X-ORIGINAL-URL:https://visitcadelta.com
X-WR-CALDESC:Events for Visit the California Delta
REFRESH-INTERVAL;VALUE=DURATION:PT1H
X-Robots-Tag:noindex
X-PUBLISHED-TTL:PT1H
BEGIN:VTIMEZONE
TZID:America/Los_Angeles
BEGIN:DAYLIGHT
TZOFFSETFROM:-0800
TZOFFSETTO:-0700
TZNAME:PDT
DTSTART:20180311T100000
END:DAYLIGHT
BEGIN:STANDARD
TZOFFSETFROM:-0700
TZOFFSETTO:-0800
TZNAME:PST
DTSTART:20181104T090000
END:STANDARD
BEGIN:DAYLIGHT
TZOFFSETFROM:-0800
TZOFFSETTO:-0700
TZNAME:PDT
DTSTART:20190310T100000
END:DAYLIGHT
BEGIN:STANDARD
TZOFFSETFROM:-0700
TZOFFSETTO:-0800
TZNAME:PST
DTSTART:20191103T090000
END:STANDARD
BEGIN:DAYLIGHT
TZOFFSETFROM:-0800
TZOFFSETTO:-0700
TZNAME:PDT
DTSTART:20200308T100000
END:DAYLIGHT
BEGIN:STANDARD
TZOFFSETFROM:-0700
TZOFFSETTO:-0800
TZNAME:PST
DTSTART:20201101T090000
END:STANDARD
BEGIN:DAYLIGHT
TZOFFSETFROM:-0800
TZOFFSETTO:-0700
TZNAME:PDT
DTSTART:20210314T100000
END:DAYLIGHT
BEGIN:STANDARD
TZOFFSETFROM:-0700
TZOFFSETTO:-0800
TZNAME:PST
DTSTART:20211107T090000
END:STANDARD
END:VTIMEZONE
BEGIN:VEVENT
DTSTART;VALUE=DATE:20201126
DTEND;VALUE=DATE:20201127
DTSTAMP:20260419T175007
CREATED:20201110T201239Z
LAST-MODIFIED:20201110T201239Z
UID:8942-1606348800-1606435199@visitcadelta.com
SUMMARY:UNOFFICIAL Rio Vista Turkey Trot
DESCRIPTION:The UNOFFICIAL Rio Vista Turkey Trot will be a YOYO (You’re On Your Own) walk/run on Thanksgiving Day using the same course as 2019. There will be no water stations\, no road closures\, no big sponsors\, and no official start time. The UNOFFICIAL start will be 8:00 AM. \nFor registration and pricing visit the sign up page.
URL:https://visitcadelta.com/event/rio-vista-turkey-trot-2020/
LOCATION:Rio Vista\, 40 N 2nd St\, Rio Vista\, CA\, 94571
CATEGORIES:Family Friendly,Nature and Recreation
ATTACH;FMTTYPE=image/jpeg:https://visitcadelta.com/wp-content/uploads/2018/11/running-1944798_12801.jpg
END:VEVENT
BEGIN:VEVENT
DTSTART;TZID=America/Los_Angeles:20191128T073000
DTEND;TZID=America/Los_Angeles:20191128T103000
DTSTAMP:20260419T175007
CREATED:20190918T163735Z
LAST-MODIFIED:20190920T185748Z
UID:7775-1574926200-1574937000@visitcadelta.com
SUMMARY:Rio Vista Turkey Trot
DESCRIPTION:Trot off those Thanksgiving calories! Rio Vista is hosting their annual Turkey Trot. Start off your morning with a chill run with the family and spend the rest of your day cozy at home. In addition\, all proceeds will benefit community schools’ cross country teams. Doesn’t that sound rewarding? \nThere are two races available for adults and kids:\nRio Vista Turkey Trot – 5K (Start time: 8:00 AM)\nTurkey Dash – 1/4 Mile Kids Dash (Start time: 7:30 AM) \nFor registration and pricing visit the sign up page.
URL:https://visitcadelta.com/event/rio-vista-turkey-trot-2019/
LOCATION:Rio Vista\, 40 N 2nd St\, Rio Vista\, CA\, 94571
CATEGORIES:Family Friendly,Nature and Recreation
ATTACH;FMTTYPE=image/jpeg:https://visitcadelta.com/wp-content/uploads/2018/11/running-1944798_12801.jpg
END:VEVENT
END:VCALENDAR