BEGIN:VCALENDAR
VERSION:2.0
PRODID:-//Visit the California Delta - ECPv6.15.18//NONSGML v1.0//EN
CALSCALE:GREGORIAN
METHOD:PUBLISH
X-WR-CALNAME:Visit the California Delta
X-ORIGINAL-URL:https://visitcadelta.com
X-WR-CALDESC:Events for Visit the California Delta
REFRESH-INTERVAL;VALUE=DURATION:PT1H
X-Robots-Tag:noindex
X-PUBLISHED-TTL:PT1H
BEGIN:VTIMEZONE
TZID:America/Los_Angeles
BEGIN:DAYLIGHT
TZOFFSETFROM:-0800
TZOFFSETTO:-0700
TZNAME:PDT
DTSTART:20180311T100000
END:DAYLIGHT
BEGIN:STANDARD
TZOFFSETFROM:-0700
TZOFFSETTO:-0800
TZNAME:PST
DTSTART:20181104T090000
END:STANDARD
BEGIN:DAYLIGHT
TZOFFSETFROM:-0800
TZOFFSETTO:-0700
TZNAME:PDT
DTSTART:20190310T100000
END:DAYLIGHT
BEGIN:STANDARD
TZOFFSETFROM:-0700
TZOFFSETTO:-0800
TZNAME:PST
DTSTART:20191103T090000
END:STANDARD
BEGIN:DAYLIGHT
TZOFFSETFROM:-0800
TZOFFSETTO:-0700
TZNAME:PDT
DTSTART:20200308T100000
END:DAYLIGHT
BEGIN:STANDARD
TZOFFSETFROM:-0700
TZOFFSETTO:-0800
TZNAME:PST
DTSTART:20201101T090000
END:STANDARD
END:VTIMEZONE
BEGIN:VEVENT
DTSTART;TZID=America/Los_Angeles:20191102T100000
DTEND;TZID=America/Los_Angeles:20191102T140000
DTSTAMP:20260419T092225
CREATED:20191024T171837Z
LAST-MODIFIED:20191025T172319Z
UID:7889-1572688800-1572703200@visitcadelta.com
SUMMARY:Sacramento Regional Fire Museum Grand Opening
DESCRIPTION:Opening in West Sacramento\, this is a momentous occasion thanks to the Pioneer Mutual Hook and Ladder society. Learn about the historical artifacts and apparatuses used by firefighters. You’ll also be able to catch fun rides on the fire engine along with other interactions in the museum. This grand opening is FREE for admission so bring the whole family and history lovers! \nFor additional details\, visit the event page.
URL:https://visitcadelta.com/event/sacramento-regional-fire-museum-grand-opening/
LOCATION:Sacramento Regional Fire Museum\, 3650 Industrial Blvd\, West Sacramento\, CA\, 95691
CATEGORIES:Family Friendly
ATTACH;FMTTYPE=image/jpeg:https://visitcadelta.com/wp-content/uploads/2019/10/fire.jpg
END:VEVENT
END:VCALENDAR