BEGIN:VCALENDAR
VERSION:2.0
PRODID:-//Visit the California Delta - ECPv6.15.18//NONSGML v1.0//EN
CALSCALE:GREGORIAN
METHOD:PUBLISH
X-WR-CALNAME:Visit the California Delta
X-ORIGINAL-URL:https://visitcadelta.com
X-WR-CALDESC:Events for Visit the California Delta
REFRESH-INTERVAL;VALUE=DURATION:PT1H
X-Robots-Tag:noindex
X-PUBLISHED-TTL:PT1H
BEGIN:VTIMEZONE
TZID:America/Los_Angeles
BEGIN:DAYLIGHT
TZOFFSETFROM:-0800
TZOFFSETTO:-0700
TZNAME:PDT
DTSTART:20180311T100000
END:DAYLIGHT
BEGIN:STANDARD
TZOFFSETFROM:-0700
TZOFFSETTO:-0800
TZNAME:PST
DTSTART:20181104T090000
END:STANDARD
BEGIN:DAYLIGHT
TZOFFSETFROM:-0800
TZOFFSETTO:-0700
TZNAME:PDT
DTSTART:20190310T100000
END:DAYLIGHT
BEGIN:STANDARD
TZOFFSETFROM:-0700
TZOFFSETTO:-0800
TZNAME:PST
DTSTART:20191103T090000
END:STANDARD
BEGIN:DAYLIGHT
TZOFFSETFROM:-0800
TZOFFSETTO:-0700
TZNAME:PDT
DTSTART:20200308T100000
END:DAYLIGHT
BEGIN:STANDARD
TZOFFSETFROM:-0700
TZOFFSETTO:-0800
TZNAME:PST
DTSTART:20201101T090000
END:STANDARD
END:VTIMEZONE
BEGIN:VEVENT
DTSTART;TZID=America/Los_Angeles:20191231T200000
DTEND;TZID=America/Los_Angeles:20191231T235900
DTSTAMP:20260419T175732
CREATED:20191223T180901Z
LAST-MODIFIED:20191227T184939Z
UID:8153-1577822400-1577836740@visitcadelta.com
SUMMARY:Sugar Barge New Year’s Eve Party
DESCRIPTION:Let’s make a huge toast to welcome 2020! Grab your friends\, reserve a table for dinner reservations\, and begin the night with a great food at the Sugar Barge Bar & Grill. Dance and strut your best moves on the dance floor to live music played by DJ Verrett. Make the night even more memorable with photo booths\, party favors\, and complimentary champagne to toast at midnight. \nThere is no cover charge for this event. \nEvent start/end: 8PM – 1AM \nView the details at Sugar Barge website.
URL:https://visitcadelta.com/event/new-years-eve-party-2020/
LOCATION:Sugar Barge Bar & Grill\, 4515 Willow Road\, Bethel Island\, CA\, 94511
CATEGORIES:Food and Drink,Music Art Culture
ATTACH;FMTTYPE=image/png:https://visitcadelta.com/wp-content/uploads/2019/12/sb-newyears2019-20vccad.png
END:VEVENT
END:VCALENDAR