BEGIN:VCALENDAR
VERSION:2.0
PRODID:-//Visit the California Delta - ECPv6.15.18//NONSGML v1.0//EN
CALSCALE:GREGORIAN
METHOD:PUBLISH
X-WR-CALNAME:Visit the California Delta
X-ORIGINAL-URL:https://visitcadelta.com
X-WR-CALDESC:Events for Visit the California Delta
REFRESH-INTERVAL;VALUE=DURATION:PT1H
X-Robots-Tag:noindex
X-PUBLISHED-TTL:PT1H
BEGIN:VTIMEZONE
TZID:America/Los_Angeles
BEGIN:DAYLIGHT
TZOFFSETFROM:-0800
TZOFFSETTO:-0700
TZNAME:PDT
DTSTART:20190310T100000
END:DAYLIGHT
BEGIN:STANDARD
TZOFFSETFROM:-0700
TZOFFSETTO:-0800
TZNAME:PST
DTSTART:20191103T090000
END:STANDARD
BEGIN:DAYLIGHT
TZOFFSETFROM:-0800
TZOFFSETTO:-0700
TZNAME:PDT
DTSTART:20200308T100000
END:DAYLIGHT
BEGIN:STANDARD
TZOFFSETFROM:-0700
TZOFFSETTO:-0800
TZNAME:PST
DTSTART:20201101T090000
END:STANDARD
BEGIN:DAYLIGHT
TZOFFSETFROM:-0800
TZOFFSETTO:-0700
TZNAME:PDT
DTSTART:20210314T100000
END:DAYLIGHT
BEGIN:STANDARD
TZOFFSETFROM:-0700
TZOFFSETTO:-0800
TZNAME:PST
DTSTART:20211107T090000
END:STANDARD
BEGIN:DAYLIGHT
TZOFFSETFROM:-0800
TZOFFSETTO:-0700
TZNAME:PDT
DTSTART:20220313T100000
END:DAYLIGHT
BEGIN:STANDARD
TZOFFSETFROM:-0700
TZOFFSETTO:-0800
TZNAME:PST
DTSTART:20221106T090000
END:STANDARD
BEGIN:DAYLIGHT
TZOFFSETFROM:-0800
TZOFFSETTO:-0700
TZNAME:PDT
DTSTART:20230312T100000
END:DAYLIGHT
BEGIN:STANDARD
TZOFFSETFROM:-0700
TZOFFSETTO:-0800
TZNAME:PST
DTSTART:20231105T090000
END:STANDARD
END:VTIMEZONE
BEGIN:VEVENT
DTSTART;TZID=America/Los_Angeles:20220402T110000
DTEND;TZID=America/Los_Angeles:20220402T150000
DTSTAMP:20260419T195307
CREATED:20220411T200753Z
LAST-MODIFIED:20220411T200753Z
UID:10062-1648897200-1648911600@visitcadelta.com
SUMMARY:Antioch Sesquicentennial Kickoff BBQ
DESCRIPTION:Join the community for the celebration of Antioch’s 150 year anniversary with a BBQ! The Historical Museum will host the event with live music\, food\, and activities. A Historic Almanac and Commemorative Coin will be available for purchase\, with all proceeds going towards the Historical Museum. You can bring your own lunch or purchase a BBQ meal for $25.
URL:https://visitcadelta.com/event/antioch-sesquicentennial-kickoff-bbq/
LOCATION:The Antioch Historical Museum\, 1500 W 4th St\, Antioch\, CA\, 94509
CATEGORIES:Family Friendly,Food and Drink,History and Heritage
END:VEVENT
BEGIN:VEVENT
DTSTART;TZID=America/Los_Angeles:20200215T130000
DTEND;TZID=America/Los_Angeles:20200215T160000
DTSTAMP:20260419T195307
CREATED:20200213T215810Z
LAST-MODIFIED:20200214T002729Z
UID:8425-1581771600-1581782400@visitcadelta.com
SUMMARY:Exhibit: Antioch\, A Cultural Perspective
DESCRIPTION:Antioch Historical Society Museum is celebrating the area’s multiculturalism during February with a new exhibit called\, Antioch\, A Cultural Perspective. Explore the diversity of Antioch including Chinese\, Hispanic\, Portuguese\, African-American\, and Italian cultures. Learn unique stories of each culture as well as how they made their mark in Antioch history and present-day contributions. \nYou can check out this exhibit on February 15\, 19\, 22\, 26\, and 29. \nFor details\, visit the Antioch\, A Cultural Perspective event page.
URL:https://visitcadelta.com/event/exhibit-antioch-cultural-perspective/2020-02-15/
LOCATION:The Antioch Historical Museum\, 1500 W 4th St\, Antioch\, CA\, 94509
CATEGORIES:Family Friendly,Music Art Culture
ATTACH;FMTTYPE=image/jpeg:https://visitcadelta.com/wp-content/uploads/2020/02/84237740_2626552794079643_7818000334638284800_nvcad.jpg
END:VEVENT
END:VCALENDAR