BEGIN:VCALENDAR
VERSION:2.0
PRODID:-//Visit the California Delta - ECPv6.15.18//NONSGML v1.0//EN
CALSCALE:GREGORIAN
METHOD:PUBLISH
X-ORIGINAL-URL:https://visitcadelta.com
X-WR-CALDESC:Events for Visit the California Delta
REFRESH-INTERVAL;VALUE=DURATION:PT1H
X-Robots-Tag:noindex
X-PUBLISHED-TTL:PT1H
BEGIN:VTIMEZONE
TZID:America/Los_Angeles
BEGIN:DAYLIGHT
TZOFFSETFROM:-0800
TZOFFSETTO:-0700
TZNAME:PDT
DTSTART:20180311T100000
END:DAYLIGHT
BEGIN:STANDARD
TZOFFSETFROM:-0700
TZOFFSETTO:-0800
TZNAME:PST
DTSTART:20181104T090000
END:STANDARD
BEGIN:DAYLIGHT
TZOFFSETFROM:-0800
TZOFFSETTO:-0700
TZNAME:PDT
DTSTART:20190310T100000
END:DAYLIGHT
BEGIN:STANDARD
TZOFFSETFROM:-0700
TZOFFSETTO:-0800
TZNAME:PST
DTSTART:20191103T090000
END:STANDARD
BEGIN:DAYLIGHT
TZOFFSETFROM:-0800
TZOFFSETTO:-0700
TZNAME:PDT
DTSTART:20200308T100000
END:DAYLIGHT
BEGIN:STANDARD
TZOFFSETFROM:-0700
TZOFFSETTO:-0800
TZNAME:PST
DTSTART:20201101T090000
END:STANDARD
BEGIN:DAYLIGHT
TZOFFSETFROM:-0800
TZOFFSETTO:-0700
TZNAME:PDT
DTSTART:20210314T100000
END:DAYLIGHT
BEGIN:STANDARD
TZOFFSETFROM:-0700
TZOFFSETTO:-0800
TZNAME:PST
DTSTART:20211107T090000
END:STANDARD
END:VTIMEZONE
BEGIN:VEVENT
DTSTART;TZID=America/Los_Angeles:20201219T120000
DTEND;TZID=America/Los_Angeles:20201219T170000
DTSTAMP:20260419T144134
CREATED:20200115T182237Z
LAST-MODIFIED:20201215T174359Z
UID:8318-1608379200-1608397200@visitcadelta.com
SUMMARY:River City Marketplace - CANCELED
DESCRIPTION:Presenting artists\, creatives\, and small businesses of Sacramento all in one event! The River City Marketplace brings together all local artists and makers to showcase their work to the community. Enjoy the outdoor bar\, beer garden\, lawn games as you browse through over 75 local vendors. With a variety of selection from fine arts\, crafts\, DIY\, and gourmet food\, there is something for everyone. Shop in a groovy atmosphere while supporting your local community. \nFor details\, visit the River City Marketplace event calendar.
URL:https://visitcadelta.com/event/river-city-marketplace-2020-dec/
LOCATION:The Barn\, 985 Riverfront St\, West Sacramento\, CA\, 95691
CATEGORIES:Family Friendly,Food and Drink,Music Art Culture
ATTACH;FMTTYPE=image/jpeg:https://visitcadelta.com/wp-content/uploads/2019/02/2019-event-series-for-website.jpeg
GEO:38.575197;-121.5150843
X-APPLE-STRUCTURED-LOCATION;VALUE=URI;X-ADDRESS=The Barn 985 Riverfront St West Sacramento CA 95691;X-APPLE-RADIUS=500;X-TITLE=985 Riverfront St:geo:-121.5150843,38.575197
END:VEVENT
BEGIN:VEVENT
DTSTART;TZID=America/Los_Angeles:20201127T120000
DTEND;TZID=America/Los_Angeles:20201127T170000
DTSTAMP:20260419T144134
CREATED:20200115T182050Z
LAST-MODIFIED:20200115T182050Z
UID:8311-1606478400-1606496400@visitcadelta.com
SUMMARY:River City Marketplace
DESCRIPTION:Presenting artists\, creatives\, and small businesses of Sacramento all in one event! The River City Marketplace brings together all local artists and makers to showcase their work to the community. Enjoy the outdoor bar\, beer garden\, lawn games as you browse through over 75 local vendors. With a variety of selection from fine arts\, crafts\, DIY\, and gourmet food\, there is something for everyone. Shop in a groovy atmosphere while supporting your local community. \nFor details\, visit the River City Marketplace event calendar.
URL:https://visitcadelta.com/event/river-city-marketplace-2020-nov-2/2020-11-27/
LOCATION:The Barn\, 985 Riverfront St\, West Sacramento\, CA\, 95691
CATEGORIES:Family Friendly,Food and Drink,Music Art Culture
ATTACH;FMTTYPE=image/jpeg:https://visitcadelta.com/wp-content/uploads/2019/02/2019-event-series-for-website.jpeg
GEO:38.575197;-121.5150843
X-APPLE-STRUCTURED-LOCATION;VALUE=URI;X-ADDRESS=The Barn 985 Riverfront St West Sacramento CA 95691;X-APPLE-RADIUS=500;X-TITLE=985 Riverfront St:geo:-121.5150843,38.575197
END:VEVENT
BEGIN:VEVENT
DTSTART;TZID=America/Los_Angeles:20200718T120000
DTEND;TZID=America/Los_Angeles:20200718T170000
DTSTAMP:20260419T144134
CREATED:20200115T181018Z
LAST-MODIFIED:20200514T153459Z
UID:8309-1595073600-1595091600@visitcadelta.com
SUMMARY:River City Marketplace
DESCRIPTION:Presenting artists\, creatives\, and small businesses of Sacramento all in one event! The River City Marketplace brings together all local artists and makers to showcase their work to the community. Enjoy the outdoor bar\, beer garden\, lawn games as you browse through over 75 local vendors. With a variety of selection from fine arts\, crafts\, DIY\, and gourmet food\, there is something for everyone. Shop in a groovy atmosphere while supporting your local community. \nFor details\, visit the River City Marketplace.
URL:https://visitcadelta.com/event/river-city-marketplace-2020-june/
LOCATION:The Barn\, 985 Riverfront St\, West Sacramento\, CA\, 95691
CATEGORIES:Family Friendly,Food and Drink,Music Art Culture
ATTACH;FMTTYPE=image/jpeg:https://visitcadelta.com/wp-content/uploads/2019/02/2019-event-series-for-website.jpeg
GEO:38.575197;-121.5150843
X-APPLE-STRUCTURED-LOCATION;VALUE=URI;X-ADDRESS=The Barn 985 Riverfront St West Sacramento CA 95691;X-APPLE-RADIUS=500;X-TITLE=985 Riverfront St:geo:-121.5150843,38.575197
END:VEVENT
BEGIN:VEVENT
DTSTART;TZID=America/Los_Angeles:20200116T170000
DTEND;TZID=America/Los_Angeles:20200116T200000
DTSTAMP:20260419T144134
CREATED:20200110T211538Z
LAST-MODIFIED:20200113T223331Z
UID:8263-1579194000-1579204800@visitcadelta.com
SUMMARY:S'mores & Stouts
DESCRIPTION:Stay warm next to the fire pit at The Barn with good old friends as you grub on some warm gooey s’ mores. Before you sit down\, pick out your favorite stout to pair with your s’ mores from their rotating selection. Come by early to secure your s’more sandwich! Quantities are limited. \nFor details\, visit The Barn event page.
URL:https://visitcadelta.com/event/smores-stouts/
LOCATION:The Barn\, 985 Riverfront St\, West Sacramento\, CA\, 95691
CATEGORIES:Food and Drink
ATTACH;FMTTYPE=image/jpeg:https://visitcadelta.com/wp-content/uploads/2020/01/food-1934331_640vcad.jpg
GEO:38.575197;-121.5150843
X-APPLE-STRUCTURED-LOCATION;VALUE=URI;X-ADDRESS=The Barn 985 Riverfront St West Sacramento CA 95691;X-APPLE-RADIUS=500;X-TITLE=985 Riverfront St:geo:-121.5150843,38.575197
END:VEVENT
BEGIN:VEVENT
DTSTART;TZID=America/Los_Angeles:20191219T170000
DTEND;TZID=America/Los_Angeles:20191219T200000
DTSTAMP:20260419T144134
CREATED:20191121T215448Z
LAST-MODIFIED:20191121T215448Z
UID:7962-1576774800-1576785600@visitcadelta.com
SUMMARY:Ugly Truckin' Sweater Party
DESCRIPTION:Take pride in your ugliest sweater because others will too. Come dressed in your ugly sweater and you can win a prize. Expect to come hungry as popular food trucks such as Nash & Proper\, Original Bubble Cone\, and Gameday Grill makes its way to The Barn. Enjoy live music from DJ Joshua Krage and stay warm near the fire pits with the return of S’mores & Stouts. Sounds like an awesome evening to start holiday festivities right? \nFor event details\, visit Drakes: The Barn website.
URL:https://visitcadelta.com/event/ugly-truckin-sweater-party/
LOCATION:The Barn\, 985 Riverfront St\, West Sacramento\, CA\, 95691
CATEGORIES:Food and Drink,Music Art Culture
ATTACH;FMTTYPE=image/jpeg:https://visitcadelta.com/wp-content/uploads/2019/11/vcadd.jpg
GEO:38.575197;-121.5150843
X-APPLE-STRUCTURED-LOCATION;VALUE=URI;X-ADDRESS=The Barn 985 Riverfront St West Sacramento CA 95691;X-APPLE-RADIUS=500;X-TITLE=985 Riverfront St:geo:-121.5150843,38.575197
END:VEVENT
BEGIN:VEVENT
DTSTART;TZID=America/Los_Angeles:20190511T083000
DTEND;TZID=America/Los_Angeles:20190511T123000
DTSTAMP:20260419T144134
CREATED:20190429T191513Z
LAST-MODIFIED:20190430T170156Z
UID:7213-1557563400-1557577800@visitcadelta.com
SUMMARY:SacTown Urban Dash 5K
DESCRIPTION:Set your alarms early for a race through West Sacramento! Pick up your bibs and take a moment to stretch before dashing along the course. Run or walk\, but you’ll definitely appreciate the beauty of the Sacramento River beside you. Lastly\, re-hydrate yourself at the end of the race with a complimentary beer/beverage. \n5K Participant- $45\n5K Child Participant (3-10 years old)- $15\n*Ages 2 and under FREE \nRegistration/Bib Pick-up- 8:30AM-9:30AM\nRace Time- 9:30AM-12:30PM \nWalkers/strollers/kids will start at 9:45AM \n*Shirt sizes are no longer guaranteed after April 14th- limited sizes and quantity available. \nFor registration and details\, visit the SacTown Urban Dash 5K.
URL:https://visitcadelta.com/event/sactown-urban-dash-5k/
LOCATION:The Barn\, 985 Riverfront St\, West Sacramento\, CA\, 95691
CATEGORIES:Family Friendly,Nature and Recreation
ATTACH;FMTTYPE=image/jpeg:https://visitcadelta.com/wp-content/uploads/2019/04/195db3ef-19a6-4e2a-8a95-03dc9ca4a2a6-bco5mi.jpg
GEO:38.575197;-121.5150843
X-APPLE-STRUCTURED-LOCATION;VALUE=URI;X-ADDRESS=The Barn 985 Riverfront St West Sacramento CA 95691;X-APPLE-RADIUS=500;X-TITLE=985 Riverfront St:geo:-121.5150843,38.575197
END:VEVENT
END:VCALENDAR