BEGIN:VCALENDAR
VERSION:2.0
PRODID:-//Visit the California Delta - ECPv6.15.18//NONSGML v1.0//EN
CALSCALE:GREGORIAN
METHOD:PUBLISH
X-ORIGINAL-URL:https://visitcadelta.com
X-WR-CALDESC:Events for Visit the California Delta
REFRESH-INTERVAL;VALUE=DURATION:PT1H
X-Robots-Tag:noindex
X-PUBLISHED-TTL:PT1H
BEGIN:VTIMEZONE
TZID:America/Los_Angeles
BEGIN:DAYLIGHT
TZOFFSETFROM:-0800
TZOFFSETTO:-0700
TZNAME:PDT
DTSTART:20180311T100000
END:DAYLIGHT
BEGIN:STANDARD
TZOFFSETFROM:-0700
TZOFFSETTO:-0800
TZNAME:PST
DTSTART:20181104T090000
END:STANDARD
BEGIN:DAYLIGHT
TZOFFSETFROM:-0800
TZOFFSETTO:-0700
TZNAME:PDT
DTSTART:20190310T100000
END:DAYLIGHT
BEGIN:STANDARD
TZOFFSETFROM:-0700
TZOFFSETTO:-0800
TZNAME:PST
DTSTART:20191103T090000
END:STANDARD
BEGIN:DAYLIGHT
TZOFFSETFROM:-0800
TZOFFSETTO:-0700
TZNAME:PDT
DTSTART:20200308T100000
END:DAYLIGHT
BEGIN:STANDARD
TZOFFSETFROM:-0700
TZOFFSETTO:-0800
TZNAME:PST
DTSTART:20201101T090000
END:STANDARD
END:VTIMEZONE
BEGIN:VEVENT
DTSTART;TZID=America/Los_Angeles:20191231T090000
DTEND;TZID=America/Los_Angeles:20191231T235900
DTSTAMP:20260419T161122
CREATED:20191223T194119Z
LAST-MODIFIED:20191227T184929Z
UID:8163-1577782800-1577836740@visitcadelta.com
SUMMARY:NYE at Tony's Place
DESCRIPTION:The Kennedy Family and Tony’s Place staff invites you to their annual New Year’s Eve Party! Cheers to the new years’ with a midnight breakfast buffet\, complimentary champagne toast\, and plenty of music to dance to all night. \nEvent starts/ends: 9AM – 2AM \nDetails can be found on Tony’s Place event page.
URL:https://visitcadelta.com/event/nye-tonys-place/
LOCATION:Tony’s Place\, 14157 Market St\, Walnut Grove\, CA\, 95690
CATEGORIES:Food and Drink
ATTACH;FMTTYPE=image/png:https://visitcadelta.com/wp-content/uploads/2019/12/tonyvcad.png
END:VEVENT
END:VCALENDAR