BEGIN:VCALENDAR
VERSION:2.0
PRODID:-//Visit the California Delta - ECPv6.15.18//NONSGML v1.0//EN
CALSCALE:GREGORIAN
METHOD:PUBLISH
X-ORIGINAL-URL:https://visitcadelta.com
X-WR-CALDESC:Events for Visit the California Delta
REFRESH-INTERVAL;VALUE=DURATION:PT1H
X-Robots-Tag:noindex
X-PUBLISHED-TTL:PT1H
BEGIN:VTIMEZONE
TZID:America/Los_Angeles
BEGIN:DAYLIGHT
TZOFFSETFROM:-0800
TZOFFSETTO:-0700
TZNAME:PDT
DTSTART:20250309T100000
END:DAYLIGHT
BEGIN:STANDARD
TZOFFSETFROM:-0700
TZOFFSETTO:-0800
TZNAME:PST
DTSTART:20251102T090000
END:STANDARD
BEGIN:DAYLIGHT
TZOFFSETFROM:-0800
TZOFFSETTO:-0700
TZNAME:PDT
DTSTART:20260308T100000
END:DAYLIGHT
BEGIN:STANDARD
TZOFFSETFROM:-0700
TZOFFSETTO:-0800
TZNAME:PST
DTSTART:20261101T090000
END:STANDARD
BEGIN:DAYLIGHT
TZOFFSETFROM:-0800
TZOFFSETTO:-0700
TZNAME:PDT
DTSTART:20270314T100000
END:DAYLIGHT
BEGIN:STANDARD
TZOFFSETFROM:-0700
TZOFFSETTO:-0800
TZNAME:PST
DTSTART:20271107T090000
END:STANDARD
END:VTIMEZONE
BEGIN:VEVENT
DTSTART;TZID=America/Los_Angeles:20260307T110000
DTEND;TZID=America/Los_Angeles:20260307T120000
DTSTAMP:20260420T005049
CREATED:20260130T021653Z
LAST-MODIFIED:20260130T021653Z
UID:11277-1772881200-1772884800@visitcadelta.com
SUMMARY:Vallejo Sea Level Rise Walking Tour in Vallejo
DESCRIPTION:Join a free\, interactive walking tour of the Vallejo waterfront focused on sea level rise\, storm impacts\, and flood resilience. The tour begins near the Vallejo Ferry Terminal and covers approximately 2 miles on mostly flat terrain. \nParticipants can enjoy coffee and snacks\, take part in a community mapping activity\, and receive gift cards for participating.
URL:https://visitcadelta.com/event/vallejo-sea-level-rise-walking-tour-in-vallejo/
LOCATION:Vallejo Ferry Terminal\, 289 Mare Island Way\, Vallejo\, CA\, 94590\, United States
END:VEVENT
END:VCALENDAR