BEGIN:VCALENDAR
VERSION:2.0
PRODID:-//Visit the California Delta - ECPv6.15.18//NONSGML v1.0//EN
CALSCALE:GREGORIAN
METHOD:PUBLISH
X-ORIGINAL-URL:https://visitcadelta.com
X-WR-CALDESC:Events for Visit the California Delta
REFRESH-INTERVAL;VALUE=DURATION:PT1H
X-Robots-Tag:noindex
X-PUBLISHED-TTL:PT1H
BEGIN:VTIMEZONE
TZID:America/Los_Angeles
BEGIN:DAYLIGHT
TZOFFSETFROM:-0800
TZOFFSETTO:-0700
TZNAME:PDT
DTSTART:20180311T100000
END:DAYLIGHT
BEGIN:STANDARD
TZOFFSETFROM:-0700
TZOFFSETTO:-0800
TZNAME:PST
DTSTART:20181104T090000
END:STANDARD
BEGIN:DAYLIGHT
TZOFFSETFROM:-0800
TZOFFSETTO:-0700
TZNAME:PDT
DTSTART:20190310T100000
END:DAYLIGHT
BEGIN:STANDARD
TZOFFSETFROM:-0700
TZOFFSETTO:-0800
TZNAME:PST
DTSTART:20191103T090000
END:STANDARD
BEGIN:DAYLIGHT
TZOFFSETFROM:-0800
TZOFFSETTO:-0700
TZNAME:PDT
DTSTART:20200308T100000
END:DAYLIGHT
BEGIN:STANDARD
TZOFFSETFROM:-0700
TZOFFSETTO:-0800
TZNAME:PST
DTSTART:20201101T090000
END:STANDARD
BEGIN:DAYLIGHT
TZOFFSETFROM:-0800
TZOFFSETTO:-0700
TZNAME:PDT
DTSTART:20210314T100000
END:DAYLIGHT
BEGIN:STANDARD
TZOFFSETFROM:-0700
TZOFFSETTO:-0800
TZNAME:PST
DTSTART:20211107T090000
END:STANDARD
END:VTIMEZONE
BEGIN:VEVENT
DTSTART;VALUE=DATE:20200926
DTEND;VALUE=DATE:20200928
DTSTAMP:20260419T193738
CREATED:20200924T174351Z
LAST-MODIFIED:20200924T193736Z
UID:8901-1601078400-1601251199@visitcadelta.com
SUMMARY:Dave's Pumpkin Patch Opening Weekend
DESCRIPTION:Fall is cool weather\, colorful leaves\, and pumpkins! Dave’s Pumpkin Patch will open for the fall season beginning Saturday\, September 26 and remain open until Halloween. In addition to pumpkins\, you’ll find many family and kids-only activities including the jumping pillow\, pig races\, pony and hay rides\, the hay pyramid\, kiddie hay maze\, and the always popular corn maze. Some events will be limited in the number of participants due to COVID-19. Please purchase your tickets online in advance. \nTickets: Prices begin at $7 for weekday admission and $16 for weekend admission. Family packs\, two-day passes and season passes are available. \nFor tickets\, check out Dave’s Pumpkin Patch at Vierra’s Farms.
URL:https://visitcadelta.com/event/daves-pumpkin-patch-opening-weekend-2020-09-26/
LOCATION:Vierra Farms\, 3010 Burrows Ave\, West Sacramento\, CA\, 95691
CATEGORIES:Family Friendly,Music Art Culture,Nature and Recreation
ATTACH;FMTTYPE=image/jpeg:https://visitcadelta.com/wp-content/uploads/2020/09/20191002_110517_hdr.jpg
END:VEVENT
BEGIN:VEVENT
DTSTART;TZID=America/Los_Angeles:20191018T170000
DTEND;TZID=America/Los_Angeles:20191018T210000
DTSTAMP:20260419T193738
CREATED:20191003T231206Z
LAST-MODIFIED:20191003T231404Z
UID:7824-1571418000-1571432400@visitcadelta.com
SUMMARY:Dave's Pumpkin Patch: Pumpkin Spiked Festival
DESCRIPTION:October is more than just pumpkin patches and corn mazes.. that’s why The Pumpkin Spiked Festival is bringing in the fun for adults! From wine tasting\, local breweries\, food trucks\, a farm to fork dinner\, and a concert by Buck Ford. This family-friendly event brings together fall activities for both adults and kids. Not to mention Vierra Farms sells FRESH cinnamon apple cider donuts\, how can you say no? \nTickets: Adults $10 \nFor details and tickets\, check out Dave’s Pumpkin Patch at Vierra’s Farms.
URL:https://visitcadelta.com/event/daves-pumpkin-patch-pumpkin-spiked-festival-2019/
LOCATION:Vierra Farms\, 3010 Burrows Ave\, West Sacramento\, CA\, 95691
CATEGORIES:Family Friendly,Music Art Culture,Nature and Recreation
ATTACH;FMTTYPE=image/jpeg:https://visitcadelta.com/wp-content/uploads/2019/10/70672005_10162570326070314_1909793779812925440_n.jpg
END:VEVENT
END:VCALENDAR