BEGIN:VCALENDAR
VERSION:2.0
PRODID:-//Visit the California Delta - ECPv6.15.18//NONSGML v1.0//EN
CALSCALE:GREGORIAN
METHOD:PUBLISH
X-WR-CALNAME:Visit the California Delta
X-ORIGINAL-URL:https://visitcadelta.com
X-WR-CALDESC:Events for Visit the California Delta
REFRESH-INTERVAL;VALUE=DURATION:PT1H
X-Robots-Tag:noindex
X-PUBLISHED-TTL:PT1H
BEGIN:VTIMEZONE
TZID:America/Los_Angeles
BEGIN:DAYLIGHT
TZOFFSETFROM:-0800
TZOFFSETTO:-0700
TZNAME:PDT
DTSTART:20200308T100000
END:DAYLIGHT
BEGIN:STANDARD
TZOFFSETFROM:-0700
TZOFFSETTO:-0800
TZNAME:PST
DTSTART:20201101T090000
END:STANDARD
BEGIN:DAYLIGHT
TZOFFSETFROM:-0800
TZOFFSETTO:-0700
TZNAME:PDT
DTSTART:20210314T100000
END:DAYLIGHT
BEGIN:STANDARD
TZOFFSETFROM:-0700
TZOFFSETTO:-0800
TZNAME:PST
DTSTART:20211107T090000
END:STANDARD
BEGIN:DAYLIGHT
TZOFFSETFROM:-0800
TZOFFSETTO:-0700
TZNAME:PDT
DTSTART:20220313T100000
END:DAYLIGHT
BEGIN:STANDARD
TZOFFSETFROM:-0700
TZOFFSETTO:-0800
TZNAME:PST
DTSTART:20221106T090000
END:STANDARD
END:VTIMEZONE
BEGIN:VEVENT
DTSTART;TZID=America/Los_Angeles:20210729T180000
DTEND;TZID=America/Los_Angeles:20210729T193000
DTSTAMP:20260419T174450
CREATED:20210513T184601Z
LAST-MODIFIED:20210513T190240Z
UID:9605-1627581600-1627587000@visitcadelta.com
SUMMARY:Delta Marketing Workshop Series #4 – Mixed Bag
DESCRIPTION:Are you a small business owner in the Delta and looking for easy\, low-cost ways to expand your marketing efforts? The Delta Protection Commission\, Sacramento-San Joaquin Delta Conservancy\, and Visit CA Delta invite you to a free\, four-part Delta Marketing Workshop Series to help your small business grow and thrive. We know that marketing your business on top of running the many other aspects of your business can feel like a daunting task\, and we would like to help you with simple\, step-by-step actions that you can take to share your products and services with your customers. \nThe fourth workshop will be a “mixed bag” of marketing tools and ideas – business chambers\, guerilla marketing\, email campaigns\, listing directories\, search engines\, and more! \n\n\nPlease join us on Thursday\, July 29\, 2021 from 6:00 PM to 7:30 PM via Zoom for this free and informative session. You will hear from Delta chamber leaders and we will share helpful examples from Delta businesses. There will also be plenty of time for questions! \nRegister for this online event today!
URL:https://visitcadelta.com/event/delta-marketing-workshop-series-4-mixedbag/
LOCATION:Virtual
CATEGORIES:Small Business
ATTACH;FMTTYPE=image/png:https://visitcadelta.com/wp-content/uploads/2021/05/workshop-4.png
END:VEVENT
BEGIN:VEVENT
DTSTART;TZID=America/Los_Angeles:20210624T180000
DTEND;TZID=America/Los_Angeles:20210624T193000
DTSTAMP:20260419T174450
CREATED:20210513T184158Z
LAST-MODIFIED:20210513T190332Z
UID:9601-1624557600-1624563000@visitcadelta.com
SUMMARY:Delta Marketing Workshop Series #3 – In-Person Marketing
DESCRIPTION:Are you a small business owner in the Delta and looking for easy\, low-cost ways to expand your marketing efforts? The Delta Protection Commission\, Sacramento-San Joaquin Delta Conservancy\, and Visit CA Delta invite you to a free\, four-part Delta Marketing Workshop Series to help your small business grow and thrive. We know that marketing your business on top of running the many other aspects of your business can feel like a daunting task\, and we would like to help you with simple\, step-by-step actions that you can take to share your products and services with your customers. \nThe third workshop will focus on in-person marketing – why it’s important\, location beautification\, signage\, repeat customer cards\, add-on offerings\, and more! \n\n\nPlease join us on Thursday\, June 24\, 2021 from 6:00 PM to 7:30 PM via Zoom for this free and informative session. There will be plenty of time for questions! \nRegister for this online event today!
URL:https://visitcadelta.com/event/delta-marketing-workshop-series-3-inpersonmarketing-3/
LOCATION:Virtual
CATEGORIES:Small Business
ATTACH;FMTTYPE=image/png:https://visitcadelta.com/wp-content/uploads/2021/05/workshop-3.png
END:VEVENT
BEGIN:VEVENT
DTSTART;TZID=America/Los_Angeles:20210527T180000
DTEND;TZID=America/Los_Angeles:20210527T193000
DTSTAMP:20260419T174450
CREATED:20210513T183442Z
LAST-MODIFIED:20210513T190433Z
UID:9596-1622138400-1622143800@visitcadelta.com
SUMMARY:Delta Marketing Workshop Series #2 – Social Media
DESCRIPTION:Are you a small business owner in the Delta and looking for easy\, low-cost ways to expand your marketing efforts? The Delta Protection Commission\, Sacramento-San Joaquin Delta Conservancy\, and Visit CA Delta invite you to a free\, four-part Delta Marketing Workshop Series to help your small business grow and thrive. We know that marketing your business on top of running the many other aspects of your business can feel like a daunting task\, and we would like to help you with simple\, step-by-step actions that you can take to share your products and services with your customers. \nThe second workshop will focus on social media – why it’s important\, platforms\, sharing the right content\, interacting to build an audience\, paid promotions\, and more! \n\n\nPlease join us on Thursday\, May 27\, 2021 from 6:00 PM to 7:30 PM via Zoom for this free and informative session. We will share helpful social media examples from Delta businesses\,  and you will hear from professionals who work in social media promotions in the Delta. There will also be plenty of time for questions! \nRegister for this online event today!
URL:https://visitcadelta.com/event/delta-marketing-workshop-series-2-social-media/
LOCATION:Virtual
CATEGORIES:Small Business
ATTACH;FMTTYPE=image/png:https://visitcadelta.com/wp-content/uploads/2021/05/workshop-2.png
END:VEVENT
BEGIN:VEVENT
DTSTART;TZID=America/Los_Angeles:20210213T100000
DTEND;TZID=America/Los_Angeles:20210213T110000
DTSTAMP:20260419T174450
CREATED:20201215T193020Z
LAST-MODIFIED:20210127T020951Z
UID:9381-1613210400-1613214000@visitcadelta.com
SUMMARY:Virtual Tour of Yolo Bypass Wildlife Area
DESCRIPTION:Yolo Basin Foundation’s public wetland tours have gone virtual! Explore the Yolo Bypass Wildlife Area and learn about our local wetlands\, wildlife\, and current conservation topics. Registration is free and limited to 25 devices per virtual tour.
URL:https://visitcadelta.com/event/virtual-tour-yolo-bypass-wildlife-area/
LOCATION:Virtual
CATEGORIES:Family Friendly,Nature and Recreation
ATTACH;FMTTYPE=image/jpeg:https://visitcadelta.com/wp-content/uploads/2020/12/cosumnes-river-preserve-5-e1610396523332.jpg
END:VEVENT
BEGIN:VEVENT
DTSTART;VALUE=DATE:20210206
DTEND;VALUE=DATE:20210207
DTSTAMP:20260419T174450
CREATED:20201211T182128Z
LAST-MODIFIED:20201211T191610Z
UID:9368-1612569600-1612655999@visitcadelta.com
SUMMARY:14th Annual Winter Bird Virtual Festival
DESCRIPTION:A tradition of connecting the community to nature and growing the knowledge and love of birding continues virtually this year. The event will include a youth art contest\, bird drawing classes\, virtual tours of the Consumnes River Preserve\, and keynote speaker John Muir Laws on How to Build a Bigger Bird Brain. \nThe event is free and open to all! For more information\, call (209) 366-7115 or visit www.ci.galt.ca.us/WBF.
URL:https://visitcadelta.com/event/14th-annual-galt-winter-bird-virtual-festival/
LOCATION:Virtual
CATEGORIES:Family Friendly,Nature and Recreation
ATTACH;FMTTYPE=image/png:https://visitcadelta.com/wp-content/uploads/2020/12/2021-winter-bird-festival-resize-2.png
END:VEVENT
END:VCALENDAR