BEGIN:VCALENDAR
VERSION:2.0
PRODID:-//Visit the California Delta - ECPv6.15.18//NONSGML v1.0//EN
CALSCALE:GREGORIAN
METHOD:PUBLISH
X-ORIGINAL-URL:https://visitcadelta.com
X-WR-CALDESC:Events for Visit the California Delta
REFRESH-INTERVAL;VALUE=DURATION:PT1H
X-Robots-Tag:noindex
X-PUBLISHED-TTL:PT1H
BEGIN:VTIMEZONE
TZID:America/Los_Angeles
BEGIN:DAYLIGHT
TZOFFSETFROM:-0800
TZOFFSETTO:-0700
TZNAME:PDT
DTSTART:20240310T100000
END:DAYLIGHT
BEGIN:STANDARD
TZOFFSETFROM:-0700
TZOFFSETTO:-0800
TZNAME:PST
DTSTART:20241103T090000
END:STANDARD
BEGIN:DAYLIGHT
TZOFFSETFROM:-0800
TZOFFSETTO:-0700
TZNAME:PDT
DTSTART:20250309T100000
END:DAYLIGHT
BEGIN:STANDARD
TZOFFSETFROM:-0700
TZOFFSETTO:-0800
TZNAME:PST
DTSTART:20251102T090000
END:STANDARD
BEGIN:DAYLIGHT
TZOFFSETFROM:-0800
TZOFFSETTO:-0700
TZNAME:PDT
DTSTART:20260308T100000
END:DAYLIGHT
BEGIN:STANDARD
TZOFFSETFROM:-0700
TZOFFSETTO:-0800
TZNAME:PST
DTSTART:20261101T090000
END:STANDARD
BEGIN:DAYLIGHT
TZOFFSETFROM:-0800
TZOFFSETTO:-0700
TZNAME:PDT
DTSTART:20270314T100000
END:DAYLIGHT
BEGIN:STANDARD
TZOFFSETFROM:-0700
TZOFFSETTO:-0800
TZNAME:PST
DTSTART:20271107T090000
END:STANDARD
END:VTIMEZONE
BEGIN:VEVENT
DTSTART;TZID=America/Los_Angeles:20260117T110000
DTEND;TZID=America/Los_Angeles:20260117T150000
DTSTAMP:20260419T172653
CREATED:20260106T204717Z
LAST-MODIFIED:20260106T204738Z
UID:11107-1768647600-1768662000@visitcadelta.com
SUMMARY:Wildflower Seed Ball Workshop in Suisun City
DESCRIPTION:Join the Western Railway Museum for a hands-on Wildflower Seed Ball Workshop focused on native plants\, pollinators\, and environmental stewardship. Guests of all ages will create seed balls using natural materials\, enjoy an educational presentation on sustainable practices\, and view floral-inspired art displays with select artworks available for purchase. Each participant will create seed balls to take home and plant.
URL:https://visitcadelta.com/event/wildflower-seed-ball-workshop-in-suisun-city/
LOCATION:Western Railway Museum\, 5848 California 12\, Suisun City\, CA\, 94585\, United States
END:VEVENT
BEGIN:VEVENT
DTSTART;TZID=America/Los_Angeles:20251205T113000
DTEND;TZID=America/Los_Angeles:20251221T183000
DTSTAMP:20260419T172653
CREATED:20251114T193752Z
LAST-MODIFIED:20251217T164645Z
UID:10675-1764934200-1766341800@visitcadelta.com
SUMMARY:Santa Trains in Suisun City
DESCRIPTION:The Western Railway Museum offers its annual holiday “magical winter train rides\,” followed by an indoor light show and a chance to meet Santa Claus and slurp homemade cocoa. \n 
URL:https://visitcadelta.com/event/santa-trains/
LOCATION:Western Railway Museum\, 5848 California 12\, Suisun City\, CA\, 94585\, United States
END:VEVENT
END:VCALENDAR