BEGIN:VCALENDAR
VERSION:2.0
PRODID:-//Visit the California Delta - ECPv6.15.18//NONSGML v1.0//EN
CALSCALE:GREGORIAN
METHOD:PUBLISH
X-ORIGINAL-URL:https://visitcadelta.com
X-WR-CALDESC:Events for Visit the California Delta
REFRESH-INTERVAL;VALUE=DURATION:PT1H
X-Robots-Tag:noindex
X-PUBLISHED-TTL:PT1H
BEGIN:VTIMEZONE
TZID:America/Los_Angeles
BEGIN:DAYLIGHT
TZOFFSETFROM:-0800
TZOFFSETTO:-0700
TZNAME:PDT
DTSTART:20190310T100000
END:DAYLIGHT
BEGIN:STANDARD
TZOFFSETFROM:-0700
TZOFFSETTO:-0800
TZNAME:PST
DTSTART:20191103T090000
END:STANDARD
BEGIN:DAYLIGHT
TZOFFSETFROM:-0800
TZOFFSETTO:-0700
TZNAME:PDT
DTSTART:20200308T100000
END:DAYLIGHT
BEGIN:STANDARD
TZOFFSETFROM:-0700
TZOFFSETTO:-0800
TZNAME:PST
DTSTART:20201101T090000
END:STANDARD
BEGIN:DAYLIGHT
TZOFFSETFROM:-0800
TZOFFSETTO:-0700
TZNAME:PDT
DTSTART:20210314T100000
END:DAYLIGHT
BEGIN:STANDARD
TZOFFSETFROM:-0700
TZOFFSETTO:-0800
TZNAME:PST
DTSTART:20211107T090000
END:STANDARD
END:VTIMEZONE
BEGIN:VEVENT
DTSTART;TZID=America/Los_Angeles:20200208T090000
DTEND;TZID=America/Los_Angeles:20200208T120000
DTSTAMP:20260419T183619
CREATED:20200113T190646Z
LAST-MODIFIED:20200116T200455Z
UID:8274-1581152400-1581163200@visitcadelta.com
SUMMARY:Tours of the Yolo Bypass Wildlife Area
DESCRIPTION:Yolo Bypass Wildlife Area field trips occur every month from October to June. Pack your sightseeing essentials and your walking shoes to get a view of flooded seasonal and permanent wetlands\, native grasslands and young riparian forests. Depending on the season\, look for migrating and resident waterfowl\, shorebirds\, songbirds\, raptors\, and wading birds. Other things to bring include water\, binoculars\, and comfortable shoes. \nFor details\, visit the Yolo Bypass Wildlife Area event page.
URL:https://visitcadelta.com/event/tours-yolo-bypass-wildlife-area/
LOCATION:Yolo Wildlife Area (meet in Parking Lot A)\, 45211 Co Rd 32B\, Davis\, CA\, 95618
CATEGORIES:Nature and Recreation
ATTACH;FMTTYPE=image/jpeg:https://visitcadelta.com/wp-content/uploads/2020/01/fl_yolo_bypass-8310vcad.jpg
END:VEVENT
END:VCALENDAR