BEGIN:VCALENDAR
VERSION:2.0
PRODID:-//Visit the California Delta - ECPv6.15.18//NONSGML v1.0//EN
CALSCALE:GREGORIAN
METHOD:PUBLISH
X-ORIGINAL-URL:https://visitcadelta.com
X-WR-CALDESC:Events for Visit the California Delta
REFRESH-INTERVAL;VALUE=DURATION:PT1H
X-Robots-Tag:noindex
X-PUBLISHED-TTL:PT1H
BEGIN:VTIMEZONE
TZID:America/Los_Angeles
BEGIN:DAYLIGHT
TZOFFSETFROM:-0800
TZOFFSETTO:-0700
TZNAME:PDT
DTSTART:20250309T100000
END:DAYLIGHT
BEGIN:STANDARD
TZOFFSETFROM:-0700
TZOFFSETTO:-0800
TZNAME:PST
DTSTART:20251102T090000
END:STANDARD
BEGIN:DAYLIGHT
TZOFFSETFROM:-0800
TZOFFSETTO:-0700
TZNAME:PDT
DTSTART:20260308T100000
END:DAYLIGHT
BEGIN:STANDARD
TZOFFSETFROM:-0700
TZOFFSETTO:-0800
TZNAME:PST
DTSTART:20261101T090000
END:STANDARD
BEGIN:DAYLIGHT
TZOFFSETFROM:-0800
TZOFFSETTO:-0700
TZNAME:PDT
DTSTART:20270314T100000
END:DAYLIGHT
BEGIN:STANDARD
TZOFFSETFROM:-0700
TZOFFSETTO:-0800
TZNAME:PST
DTSTART:20271107T090000
END:STANDARD
END:VTIMEZONE
BEGIN:VEVENT
DTSTART;TZID=America/Los_Angeles:20260310T180000
DTEND;TZID=America/Los_Angeles:20260310T200000
DTSTAMP:20260419T205745
CREATED:20260226T185753Z
LAST-MODIFIED:20260226T185753Z
UID:11425-1773165600-1773172800@visitcadelta.com
SUMMARY:Delta Meadows Classification and General Plan public meeting (via Zoom)
DESCRIPTION:California State Parks will host a public meeting on the Delta Meadows Classification and General Plan to gather community input on the property’s future. Attendees can learn about and provide feedback on draft declarations of purpose and vision statements for Delta Meadows and the Locke Boarding House\, draft management zones\, and preliminary planning concepts developed from community\, stakeholder\, and Tribal input.
URL:https://visitcadelta.com/event/delta-meadows-classification-and-general-plan-public-meeting-via-zoom/
LOCATION:Zoom Presentation
END:VEVENT
BEGIN:VEVENT
DTSTART;TZID=America/Los_Angeles:20260305T190000
DTEND;TZID=America/Los_Angeles:20260305T210000
DTSTAMP:20260419T205745
CREATED:20260204T185951Z
LAST-MODIFIED:20260205T015537Z
UID:11335-1772737200-1772744400@visitcadelta.com
SUMMARY:Flyway Nights Speaker Series: Putah Creek Salmon in the Yolo Bypass (via Zoom)
DESCRIPTION:Max Stevenson\, Putah Creek Streamkeeper\, will present on the fall-run Chinook salmon migration through the Yolo Bypass and Putah Creek system. The presentation will explore salmon spawning\, migration patterns\, and the ecological significance of the region’s waterways. \nThis virtual event will be held via Zoom and is part of Flyway Nights\, a monthly speaker series highlighting environmental issues\, conservation research\, and the natural history of Northern California. Registration is required to attend.
URL:https://visitcadelta.com/event/flyway-nights-speaker-series-putah-creek-salmon-in-the-yolo-bypass/
LOCATION:Zoom Presentation
END:VEVENT
BEGIN:VEVENT
DTSTART;TZID=America/Los_Angeles:20260217T100000
DTEND;TZID=America/Los_Angeles:20260217T104500
DTSTAMP:20260419T205745
CREATED:20260210T183311Z
LAST-MODIFIED:20260210T183404Z
UID:11364-1771322400-1771325100@visitcadelta.com
SUMMARY:Building the California Delta: A Story of Chinese Immigration and Agriculture (via Zoom)
DESCRIPTION:Join the PORTS Program for a virtual presentation via Zoom from the Locke Boarding House Museum exploring the history of Chinese immigrants in the California Delta. The program will highlight immigration\, discrimination\, labor in Central Valley agriculture\, and the formation of community in the town of Locke. Registration is required to attend.
URL:https://visitcadelta.com/event/building-the-california-delta-a-story-of-chinese-immigration-and-agriculture-via-zoom/
LOCATION:Zoom Presentation
END:VEVENT
BEGIN:VEVENT
DTSTART;TZID=America/Los_Angeles:20260205T190000
DTEND;TZID=America/Los_Angeles:20260205T210000
DTSTAMP:20260419T205745
CREATED:20260204T191030Z
LAST-MODIFIED:20260205T014356Z
UID:11342-1770318000-1770325200@visitcadelta.com
SUMMARY:Flyway Nights Speaker Series: The California Department of Fish and Wildlife Beaver Restoration Program (via Zoom)
DESCRIPTION:Molly Alves and members of the California Department of Fish and Wildlife Beaver Restoration Program team will present an overview of the Beaver Restoration Program\, including its origins\, goals\, and progress to date. The presentation will cover beaver translocation\, conflict management\, site selection\, statewide planning efforts\, and opportunities for public involvement. \nSpeakers include Molly Alves\, Beaver Restoration Program Supervisor\, along with Kyle Pagel\, Tanner Harris\, and Lee Margadant from the Beaver Restoration Program. \nThis virtual event will be held via Zoom and is part of Flyway Nights\, a monthly speaker series highlighting environmental issues\, conservation research\, and the natural history of Northern California. Registration is required to attend.
URL:https://visitcadelta.com/event/flyway-nights-speaker-series-the-california-department-of-fish-and-wildlife-beaver-restoration-program/
LOCATION:Zoom Presentation
END:VEVENT
END:VCALENDAR